{"text_format":"1","workbook":"xlsx","n_sheets":7,"sheets":["Данные","Зацепы","Лист2","Рельефы","Для тренировки NEW! 2023","Крепеж","Формирование"],"not_rendered":{"charts":0,"images":160,"macros":1,"external_links":0,"defined_names":0,"comments":0,"pivot_tables":0},"unopened":[],"bounds":{"document_bytes":16777216,"sheet_cells":100000,"rows_first":2000,"rows_last":500,"rows_between":2000,"halvings":0,"cell_chars":16384,"cell_head_chars":4096},"cells_cut":0,"cells_raw":0,"read":"whole","date_system":"1900"}

{"sheet":"Данные","index":0,"n_rows":30,"n_cols":8,"rows_kept":30,"cut":false,"hidden":false,"merged":[[4,1,4,5],[21,0,24,4],[19,0,19,1],[19,2,19,3],[17,0,17,1],[18,0,18,1],[17,2,17,3],[18,2,18,3],[7,1,7,5],[14,0,14,1],[16,0,16,1],[15,0,15,1],[14,2,14,3],[8,1,8,5],[2,1,2,5],[6,1,6,5],[11,1,11,5],[17,7,17,9],[0,7,0,9],[1,7,12,9],[14,7,14,9],[15,7,15,9],[16,7,16,9],[0,0,1,5],[5,1,5,5],[12,1,12,5],[15,2,15,3],[16,2,16,3],[3,1,3,5],[10,0,10,5]]}
["Пожалуйста, укажите свои данные:",null,null,null,null,null,null,"Реквизиты"]
[null,null,null,null,null,null,null,"Индивидуальный предприниматель Овчинников Евгений Витальевич\n660130, Россия г.Красноярск\n ул. Мирошниченко д.6 кв. 49 тел. 89039238749\nОГРНИП 308246833600171,\nИНН  246303349650 \nр/сч  40802 810 4234 3000 0283 в ФИЛИАЛ \"НОВОСИБИРСКИЙ\" АО \"АЛЬФА-БАНК\",\nБИК  045004774,  к/с  30101810600000000774"]
["Название компании:"]
["Контактное лицо:"]
["Регион:"]
["Город:"]
["Адрес:"]
["Телефон:"]
["E-mail:"]
[]
["Информация о получателе груза:"]
["Для частного лица/ФИО полностью:"]
["Для организаций/ Полное название:"]
[]
["Количество наборов зацепов:",null,{"$f":"SUM(Зацепы!K76,'Для тренировки NEW! 2023'!F22)","v":0},null,"шт.",null,null,"г.Красноярск   "]
["Количество зацепов:",null,{"$f":"SUM(Зацепы!K4,'Для тренировки NEW! 2023'!O13:Q13)","v":0},null,"шт.",null,null,"Овчинников Евгений"]
["Количество рельефов:",null,{"$f":"SUM(Рельефы!AA4)","v":0},null,"шт.",null,null,"+7(903) 923-87-49"]
["Общая стоимость заказа:",null,{"$f":"SUM(Зацепы!Y4,Рельефы!Y4,'Для тренировки NEW! 2023'!S13:T13,Крепеж!G17)","v":0},null,"руб.",null,null,"sales@aztec-climber.ru"]
["Общий вес заказа:",null,{"$f":"SUM(Зацепы!X4,Рельефы!X4,'Для тренировки NEW! 2023'!R13,Крепеж!F17)","v":0},null,"кг"]
["Приблизительный объем:",null,{"$f":"C15*0.007+C17*0.015","v":0},null,"м3"]
[]
["Доставка в большинство городов осуществляется компаниями Деловые линии, ПЭК, GTD или СДЭК. Для ориентировочной калькуляции стоимости доставки введите вес и объем заказа на сайте перевозчика"]
[]
[]
[]
[]
[null,"http://krasnoyarsk.dellin.ru"]
[null,"https://cdek.ru/"]
[null,"https://gtdel.com/"]
[null,"https://pecom.ru/"]

{"sheet":"Зацепы","index":1,"n_rows":76,"n_cols":34,"rows_kept":76,"cut":false,"hidden":false,"merged":[[7,25,7,32],[8,25,18,32],[5,12,5,22],[33,10,33,24],[44,10,44,24],[52,10,52,24],[61,10,61,24],[7,10,7,24],[19,10,19,24],[27,10,27,24],[0,23,1,23],[0,24,1,24],[0,25,1,32],[4,0,4,32],[0,0,3,0],[0,1,3,1],[0,2,3,2],[0,3,1,9],[0,10,1,10],[0,11,1,11],[0,12,0,22],[2,10,2,11],[3,10,3,11]]}
["Название комплекта/Размерные Группы","Количество зацепов в комплекте","Изображение ","   Размеры зацепов в комплекте, шт",null,null,null,null,null,null,"Вес комплекта","Цена комплекта","Выберите количество комплектов по цвету",null,null,null,null,null,null,null,null,null,null,"Общий вес","Общая стоимость","Длина необходимых болтов для заказанных комплектов, шт."]
[null,null,null,null,null,null,null,null,null,null,null,null,"Любой цвет","3028 RAL","5015 RAL","1018 RAL","6037 RAL","9016 RAL","9005 RAL","2003 RAL","4008 RAL","Зеленый флюр +10%","Розовый флюр +10%"]
[null,null,null,"XS","S","M","L","XL","XXL","GIGA","Общее кол-во:",null,"шт.","шт.","шт.","шт.","шт.","шт.","шт.","шт.","шт.","шт.","шт.","кг","руб.","шт.","шт.","шт.","шт.","шт.","шт.","шт.","шт."]
[null,null,null,{"$f":"D7*SUM(M7:W7)+D9*SUM(M9:W9)+D10*SUM(M10:W10)+D11*SUM(M11:W11)+D12*SUM(M12:W12)+D13*SUM(M13:W13)+D14*SUM(M14:W14)+D15*SUM(M15:W15)+D16*SUM(M16:W16)+D17*SUM(M17:W17)+D18*SUM(M18:W18)+D19*SUM(M19:W19)+D22*SUM(M22:W22)+D24*SUM(M24:W24)+D27*SUM(M27:W27)","v":0},{"$f":"+E9*SUM(M9:W9)+E21*SUM(M21:W21)+E22*SUM(M22:W22)+E23*SUM(M23:W23)+E24*SUM(M24:W24)+E25*SUM(M25:W25)+E26*SUM(M26:W26)+E27*SUM(M27:W27)+E30*SUM(M30:W30)+E35*SUM(M35:W35)","v":0},{"$f":"F25*SUM(M25:W25)+F26*SUM(M26:W26)+F27*SUM(M27:W27)+F29*SUM(M29:W29)+F30*SUM(M30:W30)+F31*SUM(M31:W31)+F32*SUM(M32:W32)+F33*SUM(M33:W33)+F35*SUM(M35:W35)+F36*SUM(M36:W36)+F43*SUM(M43:W43)","v":0},{"$f":"G27*SUM(M27:W27)+G30*SUM(M30:W30)+G31*SUM(M31:W31)+G32*SUM(M32:W32)+G35*SUM(M35:W35)+G36*SUM(M36:W36)+G37*SUM(M37:W37)+G38*SUM(M38:W38)+G39*SUM(M39:W39)+G40*SUM(M40:W40)+G41*SUM(M41:W41)+G43*SUM(M43:W43)+G44*SUM(M44:W44)+G46*SUM(M46:W46)+G47*SUM(M47:W47)+G48*SUM(M48:W48)+G49*SUM(M49:W49)+G50*SUM(M50:W50)+G42*SUM(M42:W42)","v":0},{"$f":"H52*SUM(M52:W52)+H48*SUM(M48:W48)+H47*SUM(M47:W47)+H46*SUM(M46:W46)+H44*SUM(M44:W44)+H39*SUM(M39:W39)+H37*SUM(M37:W37)+H35*SUM(M35:W35)+H43*SUM(M43:W43)+H49*SUM(M49:W49)+H50*SUM(M50:W50)+H51*SUM(M51:W51)+H42*SUM(M42:W42)","v":0},{"$f":"I54*SUM(M54:W54)+I58*SUM(M58:W58)+I59*SUM(M59:W59)+I60*SUM(M60:W60)+I61*SUM(M61:W61)+I56*SUM(M56:W56)+I55*SUM(M55:W55)+I57*SUM(M57:W57)+I51*SUM(M51:W51)","v":0},{"$f":"J64*SUM(M64:W64)+J56*SUM(M56:W56)+J55*SUM(M55:W55)+J57*SUM(M57:W57)+J63*SUM(M63:W63)","v":0},{"$f":"SUM(D4:J4)","v":0},null,{"$f":"SUM(M7*$B$7)+SUM(M9*$B$9)+SUM(M10*$B$10)+SUM(M15*$B$15)+SUM(M16*$B$16)+SUM(M17*$B$17)+SUM(M18*$B$18)+SUM(M19*$B$19)+SUM(M21*$B$21)+SUM(M22*$B$22)+SUM(M23*$B$23)+SUM(M24*$B$24)+SUM(M25*$B$25)+SUM(M26*$B$26)+SUM(M27*$B$27)+SUM(M29*$B$29)+SUM(M30*$B$30)+SUM(M31*$B$31)+SUM(M32*$B$32)+SUM(M33*$B$33)++SUM(M35*$B$35)+SUM(M36*$B$36)+SUM(M37*$B$37)+SUM(M38*$B$38)+SUM(M39*$B$39)+SUM(M40*$B$40)+SUM(M41*$B$41)+SUM(M43*$B$43)+SUM(M44*$B$44)+SUM(M46*$B$46)+SUM(M47*$B$47)+SUM(M48*$B$48)+SUM(M49*$B$49)+SUM(M50*$B$50)+SUM(M52*$B$52)+SUM(M54*$B$54)+SUM(M55*$B$55)+SUM(M58*$B$58)+SUM(M59*$B$59)+SUM(M60*$B$60)+SUM(M61*$B$61)++SUM(M64*$B$64)+SUM(M56*$B$56)+SUM(M57*$B$57)+SUM(M11*$B$11)+SUM(M12*$B$12)+SUM(M13*$B$13)+SUM(M14*$B$14)+SUM(M51*$B$51)+SUM(M42*$B$42)+SUM(M63*$B$63)","v":0},{"$f":"SUM(N7*$B$7)+SUM(N9*$B$9)+SUM(N10*$B$10)+SUM(N15*$B$15)+SUM(N16*$B$16)+SUM(N17*$B$17)+SUM(N18*$B$18)+SUM(N19*$B$19)+SUM(N21*$B$21)+SUM(N22*$B$22)+SUM(N23*$B$23)+SUM(N24*$B$24)+SUM(N25*$B$25)+SUM(N26*$B$26)+SUM(N27*$B$27)+SUM(N29*$B$29)+SUM(N30*$B$30)+SUM(N31*$B$31)+SUM(N32*$B$32)+SUM(N33*$B$33)++SUM(N35*$B$35)+SUM(N36*$B$36)+SUM(N37*$B$37)+SUM(N38*$B$38)+SUM(N39*$B$39)+SUM(N40*$B$40)+SUM(N41*$B$41)+SUM(N43*$B$43)+SUM(N44*$B$44)+SUM(N46*$B$46)+SUM(N47*$B$47)+SUM(N48*$B$48)+SUM(N49*$B$49)+SUM(N50*$B$50)+SUM(N52*$B$52)+SUM(N54*$B$54)+SUM(N55*$B$55)+SUM(N58*$B$58)+SUM(N59*$B$59)+SUM(N60*$B$60)+SUM(N61*$B$61)++SUM(N64*$B$64)+SUM(N56*$B$56)+SUM(N57*$B$57)+SUM(N11*$B$11)+SUM(N12*$B$12)+SUM(N13*$B$13)+SUM(N14*$B$14)+SUM(N51*$B$51)+SUM(N42*$B$42)+SUM(N63*$B$63)","v":0},0,0,0,0,0,0,{"$f":"SUM(U7*$B$7)+SUM(U9*$B$9)+SUM(U10*$B$10)+SUM(U15*$B$15)+SUM(U16*$B$16)+SUM(U17*$B$17)+SUM(U18*$B$18)+SUM(U19*$B$19)+SUM(U21*$B$21)+SUM(U22*$B$22)+SUM(U23*$B$23)+SUM(U24*$B$24)+SUM(U25*$B$25)+SUM(U26*$B$26)+SUM(U27*$B$27)+SUM(U29*$B$29)+SUM(U30*$B$30)+SUM(U31*$B$31)+SUM(U32*$B$32)+SUM(U33*$B$33)++SUM(U35*$B$35)+SUM(U36*$B$36)+SUM(U37*$B$37)+SUM(U38*$B$38)+SUM(U39*$B$39)+SUM(U40*$B$40)+SUM(U41*$B$41)+SUM(U43*$B$43)+SUM(U44*$B$44)+SUM(U46*$B$46)+SUM(U47*$B$47)+SUM(U48*$B$48)+SUM(U49*$B$49)+SUM(U50*$B$50)+SUM(U52*$B$52)+SUM(U54*$B$54)+SUM(U55*$B$55)+SUM(U58*$B$58)+SUM(U59*$B$59)+SUM(U60*$B$60)+SUM(U61*$B$61)++SUM(U64*$B$64)+SUM(U56*$B$56)+SUM(U57*$B$57)+SUM(U11*$B$11)+SUM(U12*$B$12)+SUM(U13*$B$13)+SUM(U14*$B$14)+SUM(U51*$B$51)+SUM(U42*$B$42)+SUM(U63*$B$63)","v":0},{"$f":"SUM(V7*$B$7)+SUM(V9*$B$9)+SUM(V10*$B$10)+SUM(V15*$B$15)+SUM(V16*$B$16)+SUM(V17*$B$17)+SUM(V18*$B$18)+SUM(V19*$B$19)+SUM(V21*$B$21)+SUM(V22*$B$22)+SUM(V23*$B$23)+SUM(V24*$B$24)+SUM(V25*$B$25)+SUM(V26*$B$26)+SUM(V27*$B$27)+SUM(V29*$B$29)+SUM(V30*$B$30)+SUM(V31*$B$31)+SUM(V32*$B$32)+SUM(V33*$B$33)++SUM(V35*$B$35)+SUM(V36*$B$36)+SUM(V37*$B$37)+SUM(V38*$B$38)+SUM(V39*$B$39)+SUM(V40*$B$40)+SUM(V41*$B$41)+SUM(V43*$B$43)+SUM(V44*$B$44)+SUM(V46*$B$46)+SUM(V47*$B$47)+SUM(V48*$B$48)+SUM(V49*$B$49)+SUM(V50*$B$50)+SUM(V52*$B$52)+SUM(V54*$B$54)+SUM(V55*$B$55)+SUM(V58*$B$58)+SUM(V59*$B$59)+SUM(V60*$B$60)+SUM(V61*$B$61)++SUM(V64*$B$64)+SUM(V56*$B$56)+SUM(V57*$B$57)+SUM(V11*$B$11)+SUM(V12*$B$12)+SUM(V13*$B$13)+SUM(V14*$B$14)+SUM(V51*$B$51)+SUM(V42*$B$42)+SUM(V63*$B$63)","v":0},{"$f":"SUM(W7*$B$7)+SUM(W9*$B$9)+SUM(W10*$B$10)+SUM(W15*$B$15)+SUM(W16*$B$16)+SUM(W17*$B$17)+SUM(W18*$B$18)+SUM(W19*$B$19)+SUM(W21*$B$21)+SUM(W22*$B$22)+SUM(W23*$B$23)+SUM(W24*$B$24)+SUM(W25*$B$25)+SUM(W26*$B$26)+SUM(W27*$B$27)+SUM(W29*$B$29)+SUM(W30*$B$30)+SUM(W31*$B$31)+SUM(W32*$B$32)+SUM(W33*$B$33)++SUM(W35*$B$35)+SUM(W36*$B$36)+SUM(W37*$B$37)+SUM(W38*$B$38)+SUM(W39*$B$39)+SUM(W40*$B$40)+SUM(W41*$B$41)+SUM(W43*$B$43)+SUM(W44*$B$44)+SUM(W46*$B$46)+SUM(W47*$B$47)+SUM(W48*$B$48)+SUM(W49*$B$49)+SUM(W50*$B$50)+SUM(W52*$B$52)+SUM(W54*$B$54)+SUM(W55*$B$55)+SUM(W58*$B$58)+SUM(W59*$B$59)+SUM(W60*$B$60)+SUM(W61*$B$61)++SUM(W64*$B$64)+SUM(W56*$B$56)+SUM(W57*$B$57)+SUM(W11*$B$11)+SUM(W12*$B$12)+SUM(W13*$B$13)+SUM(W14*$B$14)+SUM(W51*$B$51)+SUM(W42*$B$42)+SUM(W63*$B$63)","v":0},{"$f":"SUM(X7:X64)","v":0},{"$f":"SUM(Y7:Y64)","v":0},{"$f":"SUM(Z7,Z21:Z27,Z29:Z33,Z35:Z44,Z46:Z52,Z54:Z61,Z63:Z64)","v":0},{"$f":"SUM(AA7,AA21:AA27,AA29:AA33,AA35:AA44,AA46:AA52,AA54:AA61,AA63:AA64)","v":0},0,0,0,0,0,0]
[]
["XS","шт",null,"XS","S","M","L","XL","XXL","GIGA","кг","руб",null,null,null,null,null,null,null,null,null,null,null,"кг","руб","40мм","50мм","60мм","70мм","80мм","90мм","100мм","120мм","Код"]
["New Beads",30,null,30,null,null,null,null,null,null,2.2999999999999998,1700,null,null,null,null,null,null,null,null,null,null,null,{"$f":"K7*(M7+N7+O7+P7+Q7+R7+S7+T7+U7+V7+W7)","v":0},{"$f":"L7*(M7+N7+O7+P7+R7+S7+Q7+T7+U7)+V7*(L7*110%)+W7*(L7*110%)","v":0},{"$f":"SUM(M7:W7)*30","v":0},null,null,null,null,null,null,null,"00-00000050"]
["Sqrew/XS",null,null,"XS","S","M","L","XL","XXL","GIGA"]
["Bark-Screw II ",23,null,17,6,null,null,null,null,null,2,2010,null,null,null,null,null,null,null,null,null,null,null,{"$f":"K9*(M9+N9+O9+P9+Q9+R9+S9+T9+U9+V9+W9)","v":0},{"$f":"L9*(M9+N9+O9+P9+R9+S9+Q9+T9+U9)+V9*(L9*110%)+W9*(L9*110%)","v":0},"КРЕПЯТСЯ НА ШУРУПЫ",null,null,null,null,null,null,null,"00-00000628"]
["Duplex I PU     NEW! 2022",11,null,11,null,null,null,null,null,null,0.3,1950,null,null,null,null,null,null,null,null,null,null,null,{"$f":"K10*(M10+N10+O10+P10+Q10+R10+S10+T10+U10+V10+W10)","v":0},{"$f":"L10*(M10+N10+O10+P10+R10+S10+Q10+T10+U10)+V10*(L10*110%)+W10*(L10*110%)","v":0},null,null,null,null,null,null,null,null,"00-00000799"]
["Duplex II PU     NEW! 2022",10,null,10,null,null,null,null,null,null,0.4,1950,null,null,null,null,null,null,null,null,null,null,null,{"$f":"K11*(M11+N11+O11+P11+Q11+R11+S11+T11+U11+V11+W11)","v":0},0,null,null,null,null,null,null,null,null,"00-00000800"]
["Duplex III PU     NEW! 2022",13,null,13,null,null,null,null,null,null,0.2,1950,null,null,null,null,null,null,null,null,null,null,null,0,0,null,null,null,null,null,null,null,null,"00-00000801"]
["Duplex IV PU     NEW! 2022",9,null,9,null,null,null,null,null,null,0.2,1950,null,null,null,null,null,null,null,null,null,null,null,0,0,null,null,null,null,null,null,null,null,"00-00000802"]
["Duplex V PU     NEW! 2022",9,null,9,null,null,null,null,null,null,0.2,1950,null,null,null,null,null,null,null,null,null,null,null,0,0,null,null,null,null,null,null,null,null,"00-00000803"]
["Spots PU",11,null,11,null,null,null,null,null,null,0.6,1950,null,null,null,null,null,null,null,null,null,null,null,0,0,null,null,null,null,null,null,null,null,"00-00000216"]
["Spots II PU",15,null,15,null,null,null,null,null,null,0.3,1400,null,null,null,null,null,null,null,null,null,null,null,0,0,null,null,null,null,null,null,null,null,"00-00000611"]
["G12 PU  ",12,null,12,null,null,null,null,null,null,1,2900,null,null,null,null,null,null,null,null,null,null,null,{"$f":"K17*(M17+N17+O17+P17+Q17+R17+S17+T17+U17+V17+W17)","v":0},0,null,null,null,null,null,null,null,null,"00-00000750"]
["Geometric Screw PU",12,null,12,null,null,null,null,null,null,0.3,1200,null,null,null,null,null,null,null,null,null,null,null,0,0,null,null,null,null,null,null,null,null,"00-00000225"]
["Granite Screw PU",10,null,10,null,null,null,null,null,null,0.2,1200,null,null,null,null,null,null,null,null,null,null,null,0,{"$f":"L19*(M19+N19+O19+P19+R19+S19+Q19+T19+U19)+V19*(L19*110%)+W19*(L19*110%)","v":0},null,null,null,null,null,null,null,null,"00-00000224"]
["S","шт",null,"XS","S","M","L","XL","XXL","GIGA",null,null,null,null,null,null,null,null,null,null,null,null,null,null,null,"40мм","50мм","60мм","70мм","80мм","90мм","100мм","120мм"]
["Edges",15,null,null,15,null,null,null,null,null,2.4,2130,null,null,null,null,null,null,null,null,null,null,null,0,0,{"$f":"SUM(M21:W21)*15","v":0},null,null,null,null,null,null,null,"00-00000266"]
["No fear",20,null,10,10,null,null,null,null,null,3.2,2180,null,null,null,null,null,null,null,null,null,null,null,0,0,{"$f":"SUM(M22:W22)*20","v":0},null,null,null,null,null,null,null,"00-00000057"]
["Stone",15,null,null,15,null,null,null,null,null,3.3,2300,null,null,null,null,null,null,null,null,null,null,null,0,0,{"$f":"SUM(M23:W23)*11","v":0},{"$f":"SUM(M23:W23)*4","v":0},null,null,null,null,null,null,"00-00000059"]
["Universal",15,null,1,14,null,null,null,null,null,3,2180,null,null,null,null,null,null,null,null,null,null,null,0,0,{"$f":"SUM(M24:W24)*10","v":0},{"$f":"SUM(M24:W24)*5","v":0},null,null,null,null,null,null,"00-00000045"]
["Metamorphic",15,null,null,12,3,null,null,null,null,3.7,2490,null,null,null,null,null,null,null,null,null,null,null,0,0,{"$f":"SUM(M25:W25)*10","v":0},{"$f":"SUM(M25:W25)*5","v":0},null,null,null,null,null,null,"00-00000043"]
["Metamorphic II",12,null,null,7,5,null,null,null,null,4.0999999999999996,2550,null,null,null,null,null,null,null,null,null,null,null,0,0,{"$f":"SUM(M26:W26)*3","v":0},{"$f":"SUM(M26:W26)*8","v":0},{"$f":"SUM(M26:W26)*1","v":0},null,null,null,null,null,"00-00000046"]
["Skin Killer",14,null,4,4,2,4,null,null,null,3.3,2300,null,null,null,null,null,null,null,null,null,null,null,0,0,{"$f":"SUM(M27:W27)*14","v":0},null,null,null,null,null,null,null,"00-00000047"]
["M","шт",null,"XS","S","M","L","XL","XXL","GIGA",null,null,null,null,null,null,null,null,null,null,null,null,null,null,null,"40мм","50мм","60мм","70мм","80мм","90мм","100мм","120мм"]
["Static",12,null,null,null,12,null,null,null,null,4.0999999999999996,2970,null,null,null,null,null,null,null,null,null,null,null,0,{"$f":"L29*(M29+N29+O29+P29+R29+S29+Q29+T29+U29)+V29*(L29*110%)+W29*(L29*110%)","v":0},{"$f":"SUM(M29:W29)*8","v":0},{"$f":"SUM(M29:W29)*2","v":0},{"$f":"SUM(M29:W29)*2","v":0},null,null,null,null,null,"00-00000060"]
["X-Power",12,null,null,1,7,4,null,null,null,4.7,2970,null,null,null,null,null,null,null,null,null,null,null,0,{"$f":"L30*(M30+N30+O30+P30+R30+S30+Q30+T30+U30)+V30*(L30*110%)+W30*(L30*110%)","v":0},{"$f":"SUM(M30:W30)*9","v":0},{"$f":"SUM(M30:W30)*3","v":0},null,null,null,null,null,null,"00-00000061"]
["Handle",10,null,null,null,7,3,null,null,null,4.4000000000000004,2790,null,null,null,null,null,null,null,null,null,null,null,0,0,{"$f":"SUM(M31:W31)*6","v":0},{"$f":"SUM(M31:W31)*4","v":0},null,null,null,null,null,null,"00-00000042"]
["Sea Life",8,null,null,null,5,3,null,null,null,3.7,2790,null,null,null,null,null,null,null,null,null,null,null,0,0,null,{"$f":"SUM(M32:W32)*6","v":0},{"$f":"SUM(M32:W32)*2","v":0},null,null,null,null,null,"00-00000041"]
["Up",6,null,null,null,6,null,null,null,null,2.4,1760,null,null,null,null,null,null,null,null,null,null,null,0,0,{"$f":"SUM(M33:W33)*4","v":0},{"$f":"SUM(M33:W33)*2","v":0},null,null,null,null,null,null,"00-00000291"]
["L","шт",null,"XS","S","M","L","XL","XXL","GIGA",null,null,null,null,null,null,null,null,null,null,null,null,null,null,null,"40мм","50мм","60мм","70мм","80мм","90мм","100мм","120мм"]
["Bridge stone",10,null,null,1,4,4,1,null,null,5.3,2850,null,null,null,null,null,null,null,null,null,null,null,0,0,{"$f":"SUM(M35:W35)*7","v":0},{"$f":"SUM(M35:W35)*3","v":0},null,null,null,null,null,null,"00-00000071"]
["Lever ",5,null,null,null,1,4,null,null,null,3.8,2180,null,null,null,null,null,null,null,null,null,null,null,0,0,null,{"$f":"SUM(M36:W36)*1","v":0},{"$f":"SUM(M36:W36)*4","v":0},null,null,null,null,null,"00-00000067"]
["Hexagon ",5,null,null,null,null,3,2,null,null,3.73,2130,null,null,null,null,null,null,null,null,null,null,null,0,0,{"$f":"SUM(M37:W37)*1","v":0},{"$f":"SUM(M37:W37)*3","v":0},{"$f":"SUM(M37:W37)*1","v":0},null,null,null,null,null,"00-00000558"]
["Roof",5,null,null,null,null,5,null,null,null,3.9,2370,null,null,null,null,null,null,null,null,null,null,null,0,0,{"$f":"SUM(M38:W38)*2","v":0},{"$f":"SUM(M38:W38)*2","v":0},{"$f":"SUM(M38:W38)*1","v":0},null,null,null,null,null,"00-00000053"]
["Dront",5,null,null,null,null,4,1,null,null,3.4,1890,null,null,null,null,null,null,null,null,null,null,null,0,0,{"$f":"SUM(M39:W39)*3","v":0},{"$f":"SUM(M39:W39)*2","v":0},null,null,null,null,null,null,"00-00000049"]
["Ceuse III",6,null,null,null,null,6,null,null,null,3.3,1940,null,null,null,null,null,null,null,null,null,null,null,0,0,{"$f":"SUM(M40:W40)*6","v":0},null,null,null,null,null,null,null,"00-00000040"]
["Ceuse IV ",4,null,null,null,null,4,null,null,null,3.95,2450,null,null,null,null,null,null,null,null,null,null,null,0,0,{"$f":"SUM(M41:W41)*2","v":0},{"$f":"SUM(M41:W41)*2","v":0},null,null,null,null,null,null,"00-00000862"]
["Groov      ",9,null,null,null,null,6,3,null,null,10.7,4050,null,null,null,null,null,null,null,null,null,null,null,0,0,{"$f":"SUM(M42:W42)*5","v":0},{"$f":"SUM(M42:W42)*3","v":0},{"$f":"SUM(M42:W42)*1","v":0},null,null,null,null,null,"00-00000823"]
["Kuturchin II ",6,null,null,null,1,4,1,null,null,6.8,3580,null,null,null,null,null,null,null,null,null,null,null,0,0,null,null,null,null,{"$f":"SUM(M43:W43)*1","v":0},{"$f":"SUM(M43:W43)*1","v":0},{"$f":"SUM(M43:W43)*4","v":0},null,"00-00000600"]
["Kuturchin I ",5,null,null,null,null,3,2,null,null,4.7,2610,null,null,null,null,null,null,null,null,null,null,null,0,0,{"$f":"SUM(M44:W44)*1","v":0},null,{"$f":"SUM(M44:W44)*2","v":0},{"$f":"SUM(M44:W44)*2","v":0},null,null,null,null,"00-00000573"]
["XL","шт",null,"XS","S","M","L","XL","XXL","GIGA",null,null,null,null,null,null,null,null,null,null,null,null,null,null,null,"40мм","50мм","60мм","70мм","80мм","90мм","100мм","120мм"]
["Ceuse I",6,null,null,null,null,4,2,null,null,4.3,2550,null,null,null,null,null,null,null,null,null,null,null,0,0,{"$f":"SUM(M46:W46)*5","v":0},{"$f":"SUM(M46:W46)*1","v":0},null,null,null,null,null,null,"00-00000078"]
["Ceuse II",4,null,null,null,null,1,3,null,null,4.2,2300,null,null,null,null,null,null,null,null,null,null,null,0,0,null,{"$f":"SUM(M47:W47)*4","v":0},null,null,null,null,null,null,"00-00000039"]
["Muffins",3,null,null,null,null,1,2,null,null,3.6,1580,null,null,null,null,null,null,null,null,null,null,null,0,0," ",null,{"$f":"SUM(M48:W48)*1","v":0},{"$f":"SUM(M48:W48)*2","v":0},null,null,null,null,"00-00000073"]
["Dеja Vu           ",5,null,null,null,null,2,3,null,null,5.86,3140,null,null,null,null,null,null,null,null,null,null,null,{"$f":"K49*(M49+N49+O49+P49+Q49+R49+S49+T49+U49+V49+W49)","v":0},0,null,null,{"$f":"SUM(M49:W49)*2","v":0},{"$f":"SUM(M49:W49)*3","v":0},null,null,null,null,"00-00000637"]
["Slides               ",8,null,null,null,null,3,5,null,null,8,4020,null,null,null,null,null,null,null,null,null,null,null,0,0,null,{"$f":"SUM(M50:W50)*2","v":0},{"$f":"SUM(M50:W50)*2","v":0},{"$f":"SUM(M50:W50)*2","v":0},{"$f":"SUM(M50:W50)*2","v":0},null,null,null,"00-00000746"]
["Grand Parete PU ",5,null,null,null,null,null,3,2,null,2.1,5690,null,null,null,null,null,null,null,null,null,null,null,0,0,{"$f":"SUM(M51:W51)*4","v":0},null,null,null,null,null,null,null,"00-00000813"]
["Soft Jugs",5,null,null,null,null,null,5,null,null,6.4,3340,null,null,null,null,null,null,null,null,null,null,null,0,0,null,null,{"$f":"SUM(M52:W52)*5","v":0},null,null,null,null,null,"00-00000346"]
["XXL","шт",null,"XS","S","M","L","XL","XXL","GIGA",null,null,null,null,null,null,null,null,null,null,null,null,null,null,null,"40мм","50мм","60мм","70мм","80мм","90мм","100мм","120мм"]
["Baton PU ",5,null,null,null,null,null,null,5,null,2.7,5800,null,null,null,null,null,null,null,null,null,null,null,0,0,null,null,null,{"$f":"SUM(M54:W54)*1","v":0},{"$f":"SUM(M54:W54)*2","v":0},{"$f":"SUM(M54:W54)*2","v":0},null,null,"00-00000571"]
["Virus PU  ",5,null,null,null,null,null,null,3,2,5.0999999999999996,13850,null,null,null,null,null,null,null,null,null,null,null,{"$f":"K55*(M55+N55+O55+P55+Q55+R55+S55+T55+U55+V55+W55)","v":0},0,null,null,null,null,{"$f":"SUM(M55:W55)*3","v":0},{"$f":"SUM(M55:W55)*1","v":0},null,{"$f":"SUM(M55:W55)*1","v":0},"00-00000578"]
["Joker PU ",8,null,null,null,null,null,null,5,3,6.6,16600,null,null,null,null,null,null,null,null,null,null,null,0,0,null,null,{"$f":"SUM(M56:W56)*2","v":0},{"$f":"SUM(M56:W56)*1","v":0},{"$f":"SUM(M56:W56)*1","v":0},{"$f":"SUM(M56:W56)*1","v":0},null,null,"00-00000682"]
["Tomahawks PU      NEW! 2022",6,null,null,null,null,null,null,2,4,5.4,13800,null,null,null,null,null,null,null,null,null,null,null,0,0,null,null,{"$f":"SUM(M57:W57)*2","v":0},{"$f":"SUM(M57:W57)*3","v":0},null,null,null,{"$f":"SUM(M57:W57)*1","v":0},"00-00000752"]
["Dront XXL",3,null,null,null,null,null,null,3,null,4,2060,null,null,null,null,null,null,null,null,null,null,null,0,0,null,null,null,{"$f":"SUM(M58:W58)*2","v":0},null,{"$f":"SUM(M58:W58)*1","v":0},null,null,"00-00000048"]
["Free Fall",3,null,null,null,null,null,null,3,null,3.5,1890,null,null,null,null,null,null,null,null,null,null,null,0,0,{"$f":"SUM(M59:W59)*1","v":0},{"$f":"SUM(M59:W59)*2","v":0},null,null,null,null,null,null,"00-00000293"]
["Boss I",3,null,null,null,null,null,null,3,null,5.0999999999999996,2550,null,null,null,null,null,null,null,null,null,null,null,0,0,null,null,null,null,{"$f":"SUM(M60:W60)*2","v":0},{"$f":"SUM(M60:W60)*1","v":0},null,null,"00-00000378"]
["Boss II",3,null,null,null,null,null,null,3,null,5,2420,null,null,null,null,null,null,null,null,null,null,null,0,0,null,null,null,null,{"$f":"SUM(M61:W61)*2","v":0},{"$f":"SUM(M61:W61)*1","v":0},null,null,"00-00000379"]
["GIGA","шт",null,"XS","S","M","L","XL","XXL","GIGA",null,null,null,null,null,null,null,null,null,null,null,null,null,null,null,"40мм","50мм","60мм","70мм","80мм","90мм","100мм","120мм"]
["Shell PU                ",3,null,null,null,null,null,null,null,3,3.35,5300,null,null,null,null,null,null,null,null,null,null,null,{"$f":"K63*(M63+N63+O63+P63+Q63+R63+S63+T63+U63+V63+W63)","v":0},{"$f":"L63*(M63+N63+O63+P63+R63+S63+Q63+T63+U63)+V63*(L63*110%)+W63*(L63*110%)","v":0},null,null,null,null,null,null,null,null,"00-00000825"]
["Hexagon Giant PU ",3,null,null,null,null,null,null,null,3,3,5950,null,null,null,null,null,null,null,null,null,null,null,0,0,null,null,null,{"$f":"SUM(M64:W64)*1","v":0},null,null,{"$f":"SUM(M64:W64)*2","v":0},null,"00-00000279"]
[]
[]
[]
[]
[]
[]
[]
[]
[]
[]
[]
[null,null,null,null,null,null,null,null,null,null,{"$f":"SUM(L76:S76)","v":0},{"$f":"SUM(M64:W64)","v":0},{"$f":"SUM(M54:W61)","v":0},{"$f":"SUM(M46:W52)","v":0},{"$f":"SUM(M35:W44)","v":0},{"$f":"SUM(M29:W33)","v":0},{"$f":"SUM(M21:W27)","v":0},{"$f":"SUM(M9:W19)","v":0},{"$f":"SUM(M7:W7)","v":0}]

{"sheet":"Лист2","index":2,"n_rows":4,"n_cols":33,"rows_kept":4,"cut":false,"hidden":true,"merged":[[3,10,3,11],[0,0,3,0],[0,1,3,1],[0,2,3,2],[0,3,1,9],[0,10,1,10],[0,11,1,11],[0,12,0,22],[0,23,1,23],[0,24,1,24],[0,25,1,32],[2,10,2,11]]}
["Название комплекта/Размерные Группы","Количество зацепов в комплекте","Изображение ","   Размеры зацепов в комплекте, шт",null,null,null,null,null,null,"Вес комплекта","Цена комплекта","Выберите количество комплектов по цвету",null,null,null,null,null,null,null,null,null,null,"Общий вес","Общая стоимость","Длина необходимых болтов для заказанных комплектов, шт."]
[null,null,null,null,null,null,null,null,null,null,null,null,"Любой цвет","3028 RAL","5015 RAL","1018 RAL","6037 RAL","9016 RAL","9005 RAL","2003 RAL","4008 RAL","Зеленый флюр +10%","Розовый флюр +10%"]
[null,null,null,"XS","S","M","L","XL","XXL","GIGA","Общее кол-во:",null,"шт.","шт.","шт.","шт.","шт.","шт.","шт.","шт.","шт.","шт.","шт.","кг","руб.","шт.","шт.","шт.","шт.","шт.","шт.","шт.","шт."]
[null,null,null,{"$f":"D6*SUM(M6:W6)+D8*SUM(M8:W8)+D9*SUM(M9:W9)+D10*SUM(M10:W10)+D11*SUM(M11:W11)+D12*SUM(M12:W12)+D13*SUM(M13:W13)+D14*SUM(M14:W14)+D15*SUM(M15:W15)+D16*SUM(M16:W16)+D17*SUM(M17:W17)+D18*SUM(M18:W18)+D21*SUM(M21:W21)+D23*SUM(M23:W23)+D26*SUM(M26:W26)","v":0},{"$f":"+E8*SUM(M8:W8)+E20*SUM(M20:W20)+E21*SUM(M21:W21)+E22*SUM(M22:W22)+E23*SUM(M23:W23)+E24*SUM(M24:W24)+E25*SUM(M25:W25)+E26*SUM(M26:W26)+E29*SUM(M29:W29)+E34*SUM(M34:W34)","v":0},{"$f":"F24*SUM(M24:W24)+F25*SUM(M25:W25)+F26*SUM(M26:W26)+F28*SUM(M28:W28)+F29*SUM(M29:W29)+F30*SUM(M30:W30)+F31*SUM(M31:W31)+F32*SUM(M32:W32)+F34*SUM(M34:W34)+F35*SUM(M35:W35)+F42*SUM(M42:W42)","v":0},{"$f":"G26*SUM(M26:W26)+G29*SUM(M29:W29)+G30*SUM(M30:W30)+G31*SUM(M31:W31)+G34*SUM(M34:W34)+G35*SUM(M35:W35)+G36*SUM(M36:W36)+G37*SUM(M37:W37)+G38*SUM(M38:W38)+G39*SUM(M39:W39)+G40*SUM(M40:W40)+G42*SUM(M42:W42)+G43*SUM(M43:W43)+G45*SUM(M45:W45)+G46*SUM(M46:W46)+G47*SUM(M47:W47)+G48*SUM(M48:W48)+G49*SUM(M49:W49)+G41*SUM(M41:W41)","v":0},{"$f":"H51*SUM(M51:W51)+H47*SUM(M47:W47)+H46*SUM(M46:W46)+H45*SUM(M45:W45)+H43*SUM(M43:W43)+H38*SUM(M38:W38)+H36*SUM(M36:W36)+H34*SUM(M34:W34)+H42*SUM(M42:W42)+H48*SUM(M48:W48)+H49*SUM(M49:W49)+H50*SUM(M50:W50)+H41*SUM(M41:W41)","v":0},{"$f":"I53*SUM(M53:W53)+I57*SUM(M57:W57)+I58*SUM(M58:W58)+I59*SUM(M59:W59)+I60*SUM(M60:W60)+I55*SUM(M55:W55)+I54*SUM(M54:W54)+I56*SUM(M56:W56)+I50*SUM(M50:W50)","v":0},{"$f":"J63*SUM(M63:W63)+J55*SUM(M55:W55)+J54*SUM(M54:W54)+J56*SUM(M56:W56)+J62*SUM(M62:W62)","v":0},{"$f":"SUM(D4:J4)","v":0},null,{"$f":"SUM(M6*$B$10)+SUM(M8*$B$12)+SUM(M9*$B$13)+SUM(M14*$B$18)+SUM(M15*$B$19)+SUM(M16*$B$20)+SUM(M17*$B$21)+SUM(M18*$B$22)+SUM(M20*$B$24)+SUM(M21*$B$25)+SUM(M22*$B$26)+SUM(M23*$B$27)+SUM(M24*$B$28)+SUM(M25*$B$29)+SUM(M26*$B$30)+SUM(M28*$B$32)+SUM(M29*$B$33)+SUM(M30*$B$34)+SUM(M31*$B$35)+SUM(M32*$B$36)++SUM(M34*$B$38)+SUM(M35*$B$39)+SUM(M36*$B$40)+SUM(M37*$B$41)+SUM(M38*$B$42)+SUM(M39*$B$43)+SUM(M40*$B$44)+SUM(M42*$B$46)+SUM(M43*$B$47)+SUM(M45*$B$49)+SUM(M46*$B$50)+SUM(M47*$B$51)+SUM(M48*$B$52)+SUM(M49*$B$53)+SUM(M51*$B$55)+SUM(M53*$B$57)+SUM(M54*$B$58)+SUM(M57*$B$61)+SUM(M58*$B$62)+SUM(M59*$B$63)+SUM(M60*$B$64)++SUM(M63*$B$67)+SUM(M55*$B$59)+SUM(M56*$B$60)+SUM(M10*$B$14)+SUM(M11*$B$15)+SUM(M12*$B$16)+SUM(M13*$B$17)+SUM(M50*$B$54)+SUM(M41*$B$45)+SUM(M62*$B$66)","v":0},{"$f":"SUM(N6*$B$10)+SUM(N8*$B$12)+SUM(N9*$B$13)+SUM(N14*$B$18)+SUM(N15*$B$19)+SUM(N16*$B$20)+SUM(N17*$B$21)+SUM(N18*$B$22)+SUM(N20*$B$24)+SUM(N21*$B$25)+SUM(N22*$B$26)+SUM(N23*$B$27)+SUM(N24*$B$28)+SUM(N25*$B$29)+SUM(N26*$B$30)+SUM(N28*$B$32)+SUM(N29*$B$33)+SUM(N30*$B$34)+SUM(N31*$B$35)+SUM(N32*$B$36)++SUM(N34*$B$38)+SUM(N35*$B$39)+SUM(N36*$B$40)+SUM(N37*$B$41)+SUM(N38*$B$42)+SUM(N39*$B$43)+SUM(N40*$B$44)+SUM(N42*$B$46)+SUM(N43*$B$47)+SUM(N45*$B$49)+SUM(N46*$B$50)+SUM(N47*$B$51)+SUM(N48*$B$52)+SUM(N49*$B$53)+SUM(N51*$B$55)+SUM(N53*$B$57)+SUM(N54*$B$58)+SUM(N57*$B$61)+SUM(N58*$B$62)+SUM(N59*$B$63)+SUM(N60*$B$64)++SUM(N63*$B$67)+SUM(N55*$B$59)+SUM(N56*$B$60)+SUM(N10*$B$14)+SUM(N11*$B$15)+SUM(N12*$B$16)+SUM(N13*$B$17)+SUM(N50*$B$54)+SUM(N41*$B$45)+SUM(N62*$B$66)","v":0},0,0,0,0,0,0,{"$f":"SUM(U6*$B$10)+SUM(U8*$B$12)+SUM(U9*$B$13)+SUM(U14*$B$18)+SUM(U15*$B$19)+SUM(U16*$B$20)+SUM(U17*$B$21)+SUM(U18*$B$22)+SUM(U20*$B$24)+SUM(U21*$B$25)+SUM(U22*$B$26)+SUM(U23*$B$27)+SUM(U24*$B$28)+SUM(U25*$B$29)+SUM(U26*$B$30)+SUM(U28*$B$32)+SUM(U29*$B$33)+SUM(U30*$B$34)+SUM(U31*$B$35)+SUM(U32*$B$36)++SUM(U34*$B$38)+SUM(U35*$B$39)+SUM(U36*$B$40)+SUM(U37*$B$41)+SUM(U38*$B$42)+SUM(U39*$B$43)+SUM(U40*$B$44)+SUM(U42*$B$46)+SUM(U43*$B$47)+SUM(U45*$B$49)+SUM(U46*$B$50)+SUM(U47*$B$51)+SUM(U48*$B$52)+SUM(U49*$B$53)+SUM(U51*$B$55)+SUM(U53*$B$57)+SUM(U54*$B$58)+SUM(U57*$B$61)+SUM(U58*$B$62)+SUM(U59*$B$63)+SUM(U60*$B$64)++SUM(U63*$B$67)+SUM(U55*$B$59)+SUM(U56*$B$60)+SUM(U10*$B$14)+SUM(U11*$B$15)+SUM(U12*$B$16)+SUM(U13*$B$17)+SUM(U50*$B$54)+SUM(U41*$B$45)+SUM(U62*$B$66)","v":0},{"$f":"SUM(V6*$B$10)+SUM(V8*$B$12)+SUM(V9*$B$13)+SUM(V14*$B$18)+SUM(V15*$B$19)+SUM(V16*$B$20)+SUM(V17*$B$21)+SUM(V18*$B$22)+SUM(V20*$B$24)+SUM(V21*$B$25)+SUM(V22*$B$26)+SUM(V23*$B$27)+SUM(V24*$B$28)+SUM(V25*$B$29)+SUM(V26*$B$30)+SUM(V28*$B$32)+SUM(V29*$B$33)+SUM(V30*$B$34)+SUM(V31*$B$35)+SUM(V32*$B$36)++SUM(V34*$B$38)+SUM(V35*$B$39)+SUM(V36*$B$40)+SUM(V37*$B$41)+SUM(V38*$B$42)+SUM(V39*$B$43)+SUM(V40*$B$44)+SUM(V42*$B$46)+SUM(V43*$B$47)+SUM(V45*$B$49)+SUM(V46*$B$50)+SUM(V47*$B$51)+SUM(V48*$B$52)+SUM(V49*$B$53)+SUM(V51*$B$55)+SUM(V53*$B$57)+SUM(V54*$B$58)+SUM(V57*$B$61)+SUM(V58*$B$62)+SUM(V59*$B$63)+SUM(V60*$B$64)++SUM(V63*$B$67)+SUM(V55*$B$59)+SUM(V56*$B$60)+SUM(V10*$B$14)+SUM(V11*$B$15)+SUM(V12*$B$16)+SUM(V13*$B$17)+SUM(V50*$B$54)+SUM(V41*$B$45)+SUM(V62*$B$66)","v":0},{"$f":"SUM(W6*$B$10)+SUM(W8*$B$12)+SUM(W9*$B$13)+SUM(W14*$B$18)+SUM(W15*$B$19)+SUM(W16*$B$20)+SUM(W17*$B$21)+SUM(W18*$B$22)+SUM(W20*$B$24)+SUM(W21*$B$25)+SUM(W22*$B$26)+SUM(W23*$B$27)+SUM(W24*$B$28)+SUM(W25*$B$29)+SUM(W26*$B$30)+SUM(W28*$B$32)+SUM(W29*$B$33)+SUM(W30*$B$34)+SUM(W31*$B$35)+SUM(W32*$B$36)++SUM(W34*$B$38)+SUM(W35*$B$39)+SUM(W36*$B$40)+SUM(W37*$B$41)+SUM(W38*$B$42)+SUM(W39*$B$43)+SUM(W40*$B$44)+SUM(W42*$B$46)+SUM(W43*$B$47)+SUM(W45*$B$49)+SUM(W46*$B$50)+SUM(W47*$B$51)+SUM(W48*$B$52)+SUM(W49*$B$53)+SUM(W51*$B$55)+SUM(W53*$B$57)+SUM(W54*$B$58)+SUM(W57*$B$61)+SUM(W58*$B$62)+SUM(W59*$B$63)+SUM(W60*$B$64)++SUM(W63*$B$67)+SUM(W55*$B$59)+SUM(W56*$B$60)+SUM(W10*$B$14)+SUM(W11*$B$15)+SUM(W12*$B$16)+SUM(W13*$B$17)+SUM(W50*$B$54)+SUM(W41*$B$45)+SUM(W62*$B$66)","v":0},{"$f":"SUM(X6:X63)","v":0},{"$f":"SUM(Y6:Y63)","v":0},{"$f":"SUM(Z6,Z20:Z26,Z28:Z32,Z34:Z43,Z45:Z51,Z53:Z60,Z62:Z63)","v":0},{"$f":"SUM(AA6,AA20:AA26,AA28:AA32,AA34:AA43,AA45:AA51,AA53:AA60,AA62:AA63)","v":0},0,0,0,0,0,0]

{"sheet":"Рельефы","index":3,"n_rows":114,"n_cols":27,"rows_kept":114,"cut":false,"hidden":false,"merged":[[15,4,15,9],[16,4,16,9],[17,4,17,9],[0,12,0,22],[0,23,1,23],[0,24,1,24],[6,4,6,9],[7,4,7,9],[8,4,8,9],[9,4,9,9],[10,4,10,9],[11,4,11,9],[12,4,12,9],[13,4,13,9],[14,4,14,9],[23,4,23,9],[24,4,24,9],[25,4,25,9],[26,4,26,9],[27,4,27,9],[18,4,18,9],[19,4,19,9],[20,4,20,9],[21,4,21,9],[22,4,22,9],[42,4,42,9],[33,4,33,9],[34,4,34,9],[35,4,35,9],[36,4,36,9],[37,4,37,9],[28,4,28,9],[29,4,29,9],[30,4,30,9],[31,4,31,9],[32,4,32,9],[58,4,58,9],[0,4,1,9],[60,4,60,9],[61,4,61,9],[62,4,62,9],[53,4,53,9],[54,4,54,9],[55,4,55,9],[56,4,56,9],[57,4,57,9],[48,4,48,9],[49,4,49,9],[50,4,50,9],[51,4,51,9],[52,4,52,9],[43,4,43,9],[44,4,44,9],[45,4,45,9],[46,4,46,9],[47,4,47,9],[38,4,38,9],[39,4,39,9],[40,4,40,9],[41,4,41,9],[75,4,75,9],[76,4,76,9],[77,4,77,9],[68,4,68,9],[69,4,69,9],[70,4,70,9],[71,4,71,9],[72,4,72,9],[63,4,63,9],[64,4,64,9],[65,4,65,9],[66,4,66,9],[67,4,67,9],[111,4,111,9],[112,4,112,9],[113,4,113,9],[0,0,3,0],[0,1,3,1],[0,2,3,2],[0,3,3,3],[104,4,104,9],[105,4,105,9],[106,4,106,9],[108,4,108,9],[109,4,109,9],[99,4,99,9],[100,4,100,9],[101,4,101,9],[102,4,102,9],[103,4,103,9],[94,4,94,9],[95,4,95,9],[96,4,96,9],[97,4,97,9],[98,4,98,9],[89,4,89,9],[90,4,90,9],[0,26,1,26],[4,0,4,26],[5,0,5,26],[107,0,107,26],[80,0,80,26],[59,0,59,26],[1,10,3,10],[1,11,3,11],[110,4,110,9],[91,4,91,9],[92,4,92,9],[93,4,93,9],[84,4,84,9],[85,4,85,9],[86,4,86,9],[87,4,87,9],[88,4,88,9],[78,4,78,9],[79,4,79,9],[81,4,81,9],[82,4,82,9],[83,4,83,9],[73,4,73,9],[74,4,74,9]]}
["Название рельефа","Размер рельефа","Габариты  рельефа, см","Количество в наборе, шт","Изображение/Количество рельефов по размеру",null,null,null,null,null,"Вес набора","Цена рельефа","Выберите количество рельефов по цвету",null,null,null,null,null,null,null,null,null,null,"Общий вес","Общая стоимость",null,"Общее количество рельефов"]
[null,null,null,null,null,null,null,null,null,null,"кг","руб","Любой цвет","3028 RAL","5015 RAL","1018 RAL","6037 RAL","9016 RAL","9005 RAL","2003 RAL","4008 RAL","Зеленый флюр +10%","Розовый флюр +10%"]
[null,null,null,null,"XS","S","M","L","XL","XXL",null,null,"шт.","шт.","шт.","шт.","шт.","шт.","шт.","шт.","шт.","шт.","шт.","кг","руб.",null,"шт."]
[null,null,null,null,{"$f":"+SUM(M10:W10)+SUM(M35:W35)+SUM(M36:W36)+SUM(M50:W50)+SUM(M53:W53)+SUM(M68:W68)+SUM(M105:W105)+SUM(M109:W109)*2+SUM(M112:W112)*1+SUM(M113:W113)*1+SUM(M54:W54)+SUM(M114:W114)","v":0},{"$f":"SUM(M9:W9)+SUM(M12:W12)+SUM(M13:W13)+SUM(M14:W14)+SUM(M15:W15)+SUM(M21:W21)+SUM(M30:W30)+SUM(M31:W31)+SUM(M32:W32)+SUM(M34:W34)+SUM(M37:W37)+SUM(M41:W41)+SUM(M42:W42)+SUM(M44:W44)+SUM(M45:W45)+SUM(M49:W49)+SUM(M55:W55)+SUM(M56:W56)+SUM(M62:W62)+SUM(M69:W69)+SUM(M70:W70)+SUM(M71:W71)+SUM(M72:W72)+SUM(M87:W87)+SUM(M109:W109)*2+SUM(M110:W110)*3+SUM(M111:W111)*4+SUM(M112:W112)*1+SUM(M113:W113)*2+SUM(M106:W106)*7+SUM(M114:W114)*4","v":0},{"$f":"SUM(M7:W7)+SUM(M8:W8)+SUM(M11:W11)+SUM(M16:W16)+SUM(M17:W18)+SUM(M20:W20)+SUM(M22:W22)+SUM(M23:W23)+SUM(M25:W25)+SUM(M26:W26)+SUM(M27:W27)+SUM(M29:W29)+SUM(M51:W51)+SUM(M59:W59)+SUM(M61:W61)+SUM(M65:W65)+SUM(M66:W66)+SUM(M67:W67)+SUM(M73:W73)+SUM(M88:W88)+SUM(M112:W112)*2+SUM(M57:W57)+SUM(M58:W58)+SUM(M109:W109)*2","v":0},{"$f":"SUM(M112:W112)*1+SUM(M63:W63)+SUM(M64:W64)+SUM(M52:W52)+SUM(M48:W48)+SUM(M46:W46)+SUM(M40:W40)+SUM(M39:W39)+SUM(M38:W38)+SUM(M33:W33)+SUM(M28:W28)+SUM(M24:W24)+SUM(M19:W19)+SUM(M95:W95)+SUM(M99:W99)+SUM(M107:W107)*5+SUM(M91:W91)+SUM(M100:W100)+SUM(M80:W80)+SUM(M76:W76)++SUM(M77:W77)++SUM(M78:W78)","v":0},{"$f":"SUM(M102:W102)+SUM(M94:W94)+SUM(M93:W93)+SUM(M90:W90)+SUM(M89:W89)+SUM(M85:W85)+SUM(M84:W84)+SUM(M75:W75)+SUM(M74:W74)+SUM(M79:W79)","v":0},{"$f":"SUM(M47:W47)+SUM(M48:W48)+SUM(M82:W82)+SUM(M83:W83)+SUM(M86:W86)+SUM(M92:W92)+SUM(M96:W96)+SUM(M97:W97)+SUM(M98:W98)+SUM(M101:W101)+SUM(M103:W103)+SUM(M104:W104)","v":0},null,null,{"$f":"SUM(M7:M59)+SUM(M61:M80)+SUM(M82:M105)+SUM(M106)*7+SUM(M107)*5+SUM(M109)*6+SUM(M110)*3+SUM(M111)*4+SUM(M112)*5+SUM(M113)*3+SUM(M114)*5","v":0},{"$f":"SUM(N7:N59)+SUM(N61:N80)+SUM(N82:N105)+SUM(N106)*7+SUM(N107)*5+SUM(N109)*6+SUM(N110)*3+SUM(N111)*4+SUM(N112)*5+SUM(N113)*3+SUM(N114)*5","v":0},0,0,0,0,0,0,0,0,0,{"$f":"SUM(X7:X59,X61:X80,,X82:X107,X109:X114)","v":0},{"$f":"SUM(Y7:Y59,Y61:Y80,,Y82:Y107,Y109:Y114)","v":0},null,{"$f":"SUM(AA7:AA59,AA61:AA80,AA82:AA107,AA109:AA114)","v":0}]
[]
["СТЕКЛОПЛАСТИКОВЫЕ РЕЛЬЕФЫ"]
["№1 Double Spheric","M","40/15",1,null,null,null,null,null,null,1.72,4550,null,null,null,null,null,null,null,null,null,null,null,{"$f":"SUM(M7:W7)*K7","v":0},{"$f":"L7*(M7+N7+O7+P7+Q7+R7+S7+T7+U7)+V7*(L7*110%)+W7*(L7*110%)","v":0},"00-00000021",{"$f":"D7*SUM(M7:W7)","v":0}]
["№2 Spheric","M","41/16",1,null,null,null,null,null,null,2.2999999999999998,4600,null,null,null,null,null,null,null,null,null,null,null,{"$f":"SUM(M8:W8)*K8","v":0},{"$f":"L8*(M8+N8+O8+P8+Q8+R8+S8+T8+U8)+V8*(L8*110%)+W8*(L8*110%)","v":0},"00-00000022",{"$f":"D8*SUM(M8:W8)","v":0}]
["№3 Tufa","S","61/14/11",1,null,null,null,null,null,null,1.2,4140,null,null,null,null,null,null,null,null,null,null,null,0,0,"00-00000028",{"$f":"D9*SUM(M9:W9)","v":0}]
["№4 Small Spheric","XS","30/8",1,null,null,null,null,null,null,0.9,2530,null,null,null,null,null,null,null,null,null,null,null,0,0,"00-00000023",0]
["№5 Hollow","M","49/40/17",1,null,null,null,null,null,null,1.95,5240,null,null,null,null,null,null,null,null,null,null,null,0,0,"00-00000026",0]
["№6 Nest","S","38/28/9",1,null,null,null,null,null,null,1.1499999999999999,3400,null,null,null,null,null,null,null,null,null,null,null,0,0,"00-00000027",0]
["№7 Casper","S","37/35/17",1,null,null,null,null,null,null,1.4,3970,null,null,null,null,null,null,null,null,null,null,null,0,0,"00-00000030",0]
["№9 Delfino","S","45/27/15",1,null,null,null,null,null,null,1.2,3970,null,null,null,null,null,null,null,null,null,null,null,0,0,"00-00000032",0]
["№10 Bone","S","43/26/10",1,null,null,null,null,null,null,1.4,2530,null,null,null,null,null,null,null,null,null,null,null,0,0,"00-00000031",0]
["№11 Wing","M","64/12/12",1,null,null,null,null,null,null,1.1000000000000001,3970,null,null,null,null,null,null,null,null,null,null,null,0,0,"00-00000033",0]
["№12 Stump","M","38/36/23",1,null,null,null,null,null,null,1.7,4090,null,null,null,null,null,null,null,null,null,null,null,0,0,"00-00000034",0]
["№13 Ear","M","42/33/16",1,null,null,null,null,null,null,1.8,4320,null,null,null,null,null,null,null,null,null,null,null,0,0,"00-00000035",0]
["№14 Camel","L","64/25/13",1,null,null,null,null,null,null,1.65,4600,null,null,null,null,null,null,null,null,null,null,null,0,0,"00-00000009",0]
["№15 Nut","M","47/31/12.5",1,null,null,null,null,null,null,1.75,4320,null,null,null,null,null,null,null,null,null,null,null,0,0,"00-00000010",0]
["№16 Dune","S","38/29/11",1,null,null,null,null,null,null,1.2,3680,null,null,null,null,null,null,null,null,null,null,null,0,0,"00-00000011",0]
["№17 Dream Point","M","45/37/12.5",1,null,null,null,null,null,null,1.6,4370,null,null,null,null,null,null,null,null,null,null,null,0,0,"00-00000012",0]
["№18 Boomerang","M","66/19/13",1,null,null,null,null,null,null,1.6,4370,null,null,null,null,null,null,null,null,null,null,null,0,0,"00-00000036",0]
["№21 Banana","L","70/30/15",1,null,null,null,null,null,null,2.1,5700,null,null,null,null,null,null,null,null,null,null,null,0,0,"00-00000015",0]
["№22 Turtle","M","50/33/12",1,null,null,null,null,null,null,1.6,4320,null,null,null,null,null,null,null,null,null,null,null,0,0,"00-00000016",0]
["№23 Vedro II NEW!2020","M","35/23",1,null,null,null,null,null,null,1.7,5120,null,null,null,null,null,null,null,null,null,null,null,0,0,"00-00000020",0]
["№24 Hippo","M","41/32/13",1,null,null,null,null,null,null,1.4,4260,null,null,null,null,null,null,null,null,null,null,null,0,0,"00-00000037",0]
["№25 Wave","L","89/30/20",1,null,null,null,null,null,null,3,6560,null,null,null,null,null,null,null,null,null,null,null,0,0,"00-00000038",0]
["№26 Smurf","M","48/30/13",1,null,null,null,null,null,null,1.65,4370,null,null,null,null,null,null,null,null,null,null,null,0,0,"00-00000005",0]
["№27 Curve I","S","45/22/12",1,null,null,null,null,null,null,1.4,4370,null,null,null,null,null,null,null,null,null,null,null,0,0,"00-00000006",0]
["№28 Curve II","S","44/24/12",1,null,null,null,null,null,null,1.32,4370,null,null,null,null,null,null,null,null,null,null,null,0,0,"00-00000007",0]
["№29 Slack","S","36/25/20",1,null,null,null,null,null,null,1.66,4140,null,null,null,null,null,null,null,null,null,null,null,0,0,"00-00000008",0]
["№30 Moon","L","74/36/15",1,null,null,null,null,null,null,2,6560,null,null,null,null,null,null,null,null,null,null,null,0,0,"00-00000177",0]
["№32 Curve III","S","41/25/10",1,null,null,null,null,null,null,1.35,3510,null,null,null,null,null,null,null,null,null,null,null,0,0,"00-00000166",0]
["№35 FF I","XS","30/8",1,null,null,null,null,null,null,0.9,2530,null,null,null,null,null,null,null,null,null,null,null,0,0,"00-00000024",0]
["№36 FF II","XS","30/8",1,null,null,null,null,null,null,0.9,2530,null,null,null,null,null,null,null,null,null,null,null,0,0,"00-00000025",0]
["№37 Bent","S","53/27/10",1,null,null,null,null,null,null,1.1000000000000001,4090,null,null,null,null,null,null,null,null,null,null,null,0,0,"00-00000297",0]
["№38 Drop","L","50/32/21",1,null,null,null,null,null,null,2.2000000000000002,5470,null,null,null,null,null,null,null,null,null,null,null,0,0,"00-00000294",0]
["№39 Egg","L","54/32/19",1,null,null,null,null,null,null,2.2000000000000002,5470,null,null,null,null,null,null,null,null,null,null,null,0,0,"00-00000295",0]
["№40 Vedro","L","40/24",1,null,null,null,null,null,null,2.4500000000000002,5870,null,null,null,null,null,null,null,null,null,null,null,0,0,"00-00000296",0]
["№41 Flat","S","41/27/10",1,null,null,null,null,null,null,1.25,3400,null,null,null,null,null,null,null,null,null,null,null,0,0,"00-00000298",0]
["№42 Knot","S","43/22/9",1,null,null,null,null,null,null,1,2940,null,null,null,null,null,null,null,null,null,null,null,0,0,"00-00000299",0]
["№43 MegaSpheric","XXL","77/37",1,null,null,null,null,null,null,8,14900,null,null,null,null,null,null,null,null,null,null,null,0,0,"00-00000307",0]
["№44 Tweak","S","46/25/12",1,null,null,null,null,null,null,1.3,3680,null,null,null,null,null,null,null,null,null,null,null,0,0,"00-00000308",0]
["№46 Bolda","S","42/23/10",1,null,null,null,null,null,null,1.1499999999999999,2820,null,null,null,null,null,null,null,null,null,null,null,0,0,"00-00000326",0]
["№47 Iron","L","58/42/18",1,null,null,null,null,null,null,2.2000000000000002,5580,null,null,null,null,null,null,null,null,null,null,null,0,0,"00-00000345",0]
["№50 MegaInSpheric","XXL","77/35",1,null,null,null,null,null,null,7.8,16050,null,null,null,null,null,null,null,null,null,null,null,0,0,"00-00000376",0]
["№52 Oracle","L","38/26",1,null,null,null,null,null,null,2.95,5470,null,null,null,null,null,null,null,null,null,null,null,0,0,"00-00000390",0]
["№56 Head I ","S","36/32/16",1,null,null,null,null,null,null,1.05,3400,null,null,null,null,null,null,null,null,null,null,null,0,0,"00-00000480",0]
["№57 Head II ","XS","37/16/16",1,null,null,null,null,null,null,1.1000000000000001,3400,null,null,null,null,null,null,null,null,null,null,null,0,0,"00-00000481",0]
["№58 Head III ","M","44/40/22",1,null,null,null,null,null,null,1.6,4260,null,null,null,null,null,null,null,null,null,null,null,0,0,"00-00000482",0]
["№59 Head IV ","L","47/40/24",1,null,null,null,null,null,null,1.6,4720,null,null,null,null,null,null,null,null,null,null,null,0,0,"00-00000483",0]
["№63 Brick I ","XS","27/23/8",1,null,null,null,null,null,null,0.6,2530,null,null,null,null,null,null,null,null,null,null,null,0,0,"00-00000486",0]
["№64 Brick II ","XS","34/23/10",1,null,null,null,null,null,null,0.9,3400,null,null,null,null,null,null,null,null,null,null,null,0,0,"00-00000487",0]
["№65 Brick III ","S","33/22/14",1,null,null,null,null,null,null,1,3860,null,null,null,null,null,null,null,null,null,null,null,0,0,"00-00000488",0]
["№66 Brick IV ","S","33/22/14",1,null,null,null,null,null,null,1.2,4140,null,null,null,null,null,null,null,null,null,null,null,0,0,"00-00000491",0]
["№101 Brick V    ","M","42/39/16",1,null,null,null,null,null,null,1.17,4320,null,null,null,null,null,null,null,null,null,null,null,0,0,"00-00000782",0]
["№102 Brick VI ","M","41/26/20",1,null,null,null,null,null,null,1.3,4140,null,null,null,null,null,null,null,null,null,null,null,0,0,"00-00000783",0]
["№70 Head V ","M","37/27/23",1,null,null,null,null,null,null,1.75,4720,null,null,null,null,null,null,null,null,null,null,null,0,0,"00-00000511",0]
["ДВУХТЕКСТУРНЫЕ СТЕКЛОПЛАСТИКОВЫЕ РЕЛЬЕФЫ"]
["№8 Volcano","M","45/40/16",1,null,null,null,null,null,null,1.62,5120,null,null,null,null,null,null,null,null,null,null,null,{"$f":"SUM(M61:W61)*K61","v":0},0,"00-00000450",0]
["№45 Crater","S","48/28/13",1,null,null,null,null,null,null,1.6,4260,null,null,null,null,null,null,null,null,null,null,null,0,0,"00-00000315",0]
["№48 Iron II","L","67/38/12",1,null,null,null,null,null,null,1.5,4550,null,null,null,null,null,null,null,null,null,null,null,0,0,"00-00000393",0]
["№49 Big Crater","L","57/50/18",1,null,null,null,null,null,null,2.75,5870,null,null,null,null,null,null,null,null,null,null,null,0,0,"00-00000366",0]
["№53 Coffee","M","55/28/9",1,null,null,null,null,null,null,1.25,4260,null,null,null,null,null,null,null,null,null,null,null,0,0,"00-00000449",0]
["№54 Smile","M","45/30/13",1,null,null,null,null,null,null,1.21,3970,null,null,null,null,null,null,null,null,null,null,null,0,0,"00-00000459",0]
["№55 Lucky","M","45/40/14",1,null,null,null,null,null,null,1.5,4550,null,null,null,null,null,null,null,null,null,null,null,0,0,"00-00000479",0]
["№60 Pinch I ","XS","37/18/11",1,null,null,null,null,null,null,0.82,3400,null,null,null,null,null,null,null,null,null,null,null,0,0,"00-00000496",0]
["№61 Pinch II  ","S","39/20/13",1,null,null,null,null,null,null,1,3800,null,null,null,null,null,null,null,null,null,null,null,0,0,"00-00000497",0]
["№62 Pinch III  ","S","33/27/13",1,null,null,null,null,null,null,1.1000000000000001,3860,null,null,null,null,null,null,null,null,null,null,null,0,0,"00-00000498",0]
["№67 Snake I  ","S","53/13/9",1,null,null,null,null,null,null,0.9,3910,null,null,null,null,null,null,null,null,null,null,null,0,0,"00-00000494",0]
["№68 Snake II  ","S","57/15/9",1,null,null,null,null,null,null,1,4090,null,null,null,null,null,null,null,null,null,null,null,0,{"$f":"L72*(M72+N72+O72+P72+Q72+R72+S72+T72+U72)+V72*(L72*110%)+W72*(L72*110%)","v":0},"00-00000495",0]
["№69 Lips  ","M","67/18/7",1,null,null,null,null,null,null,1.1000000000000001,4260,null,null,null,null,null,null,null,null,null,null,null,0,0,"00-00000510",{"$f":"D73*SUM(M73:W73)","v":0}]
["№103 Kayak Glossy I ","XL","93/29/13",1,null,null,null,null,null,null,3,7600,null,null,null,null,null,null,null,null,null,null,null,0,0,"00-00001039",0]
["№104 Kayak Glossy II ","XL","87/15/12",1,null,null,null,null,null,null,2.2999999999999998,7600,null,null,null,null,null,null,null,null,null,null,null,0,0,"00-00001040",0]
["№105 Kayak Glossy III ","L","74/30/15",1,null,null,null,null,null,null,1.8,6400,null,null,null,null,null,null,null,null,null,null,null,0,0,"00-00001042",0]
["№106 Kayak Glossy IV ","L","65/17/8",1,null,null,null,null,null,null,1.4,6400,null,null,null,null,null,null,null,null,null,null,null,0,0,"00-00001046",0]
["№107 Kayak Glossy V ","L","74/27/14",1,null,null,null,null,null,null,2.2000000000000002,6400,null,null,null,null,null,null,null,null,null,null,null,0,0,"00-00001043",0]
["№108 Kayak Glossy VI ","XL","93/40/13",1,null,null,null,null,null,null,3.1,7600,null,null,null,null,null,null,null,null,null,null,null,0,{"$f":"L79*(M79+N79+O79+P79+Q79+R79+S79+T79+U79)+V79*(L79*110%)+W79*(L79*110%)","v":0},"00-00001043",0]
["№109 Kayak Glossy VII ","L","65/26/9",1,null,null,null,null,null,null,1.7,6400,null,null,null,null,null,null,null,null,null,null,null,0,0,"00-00001041",0]
["ФАНЕРНЫЕ РЕЛЬЕФЫ"]
["W5 Pyramid V (L)","XXL","107/68/27",1,null,null,null,null,null,null,"5,9",6330,null,null,null,null,null,null,null,null,null,null,null,{"$f":"SUM(M82:W82)*K82","v":0},0,"00-00000587",{"$f":"D82*SUM(M82:W82)","v":0}]
["W6 Pyramid V (R)","XXL","107/68/27",1,null,null,null,null,null,null,"5,9",6330,null,null,null,null,null,null,null,null,null,null,null,0,0,"00-00000681",0]
["W14 Basket","XL","56/53/42",1,null,null,null,null,null,null,"6,12",7800,null,null,null,null,null,null,null,null,null,null,null,0,0,"00-00000391",0]
["W13 Ladge","XL","115/26/20",1,null,null,null,null,null,null,"5,1",6730,null,null,null,null,null,null,null,null,null,null,null,0,0,"00-00000161",0]
["W12 Post Box","XXL","100/45/19",1,null,null,null,null,null,null,"7,9",8050,null,null,null,null,null,null,null,null,null,null,null,0,0,"00-00000018",0]
["W1 Pyramid I","S","35/35/17,5",1,null,null,null,null,null,null,"2",2600,null,null,null,null,null,null,null,null,null,null,null,0,0,"00-00000306",0]
["W2 Pyramid II","M","41/41/17",1,null,null,null,null,null,null,"1,4",2650,null,null,null,null,null,null,null,null,null,null,null,0,0,"00-00000451",0]
["W3 Pyramid III","XL","67/58/23",1,null,null,null,null,null,null,"4",5240,null,null,null,null,null,null,null,null,null,null,null,0,0,"00-00000017",0]
["W4 Pyramid IV","XL","68/53/25",1,null,null,null,null,null,null,"5,3",5980,null,null,null,null,null,null,null,null,null,null,null,0,0,"00-00000019",0]
["W7 Pyramid VI ","L","79/21/24",1,null,null,null,null,null,null,"2,48",4550,null,null,null,null,null,null,null,null,null,null,null,0,0,"00-00000614",0]
["W8 Pyramid VII ","XXL","105/53/21",1,null,null,null,null,null,null,"4,06",6400,null,null,null,null,null,null,null,null,null,null,null,0,0,"00-00000615",0]
["W9 Pyramid VIII ","XL","60/57/22",1,null,null,null,null,null,null,"3,44",5410,null,null,null,null,null,null,null,null,null,null,null,0,0,"00-00000616",0]
["W11 Ray ","XL","77/40/22",1,null,null,null,null,null,null,"3",5470,null,null,null,null,null,null,null,null,null,null,null,0,0,"00-00000617",0]
["W10 Big Pinch","L","79/21/24",1,null,null,null,null,null,null,"3,82",5180,null,null,null,null,null,null,null,null,null,null,null,0,0,"00-00000618",0]
["W18 Hill I","XXL","140/135/35",1,null,null,null,null,null,null,"16,2",16910,null,null,null,null,null,null,null,null,null,null,null,0,0,"00-00000692",0]
["W19 Hill II","XXL","97/93/25",1,null,null,null,null,null,null,"11,2",11450,null,null,null,null,null,null,null,null,null,null,null,0,0,"00-00000680",0]
["W21 Pyramid IX","XXL","115/115/20",1,null,null,null,null,null,null,"0",10010,null,null,null,null,null,null,null,null,null,null,null,0,0,"00-00000737",0]
["W23 Pyramid X","L","92/42/15",1,null,null,null,null,null,null,"0",4250,null,null,null,null,null,null,null,null,null,null,null,0,0,"00-00000706",0]
["W22 Pyramid XI","L","94/56/20",1,null,null,null,null,null,null,"0",4950,null,null,null,null,null,null,null,null,null,null,null,0,0,"00-00000738",0]
["W26 Ledge II","XXL","123/30/10",1,null,null,null,null,null,null,"0",6500,null,null,null,null,null,null,null,null,null,null,null,0,0,"00-00000699",0]
["W27 Star Destroyer","XL","80/75/25",1,null,null,null,null,null,null,"0",8600,null,null,null,null,null,null,null,null,null,null,null,0,0,"00-00000698",0]
["W25 Pyramid XII","XXL","77/77/25",1,null,null,null,null,null,null,"0",6100,null,null,null,null,null,null,null,null,null,null,null,0,0,"00-00000696",0]
["W20 Pyramid XIII","XXL","115/115/40",1,null,null,null,null,null,null,"0",13920,null,null,null,null,null,null,null,null,null,null,null,0,0,"00-00000742",0]
["W15 Pyramid Micro","XS","26/26/11",1,null,null,null,null,null,null,"0",1750,null,null,null,null,null,null,null,null,null,null,null,0,0,"00-00000772",0]
["Сет Pyramid","S","31/31/8,5-31/31/16",7,null,null,null,null,null,null,"0",16100,null,null,null,null,null,null,null,null,null,null,null,0,0,"00-00000693",0]
["Сет Pentagon L","L","130/124/21",5,null,null,null,null,null,null,"0",19320,null,null,null,null,null,null,null,null,null,null,null,0,0,"00-00000694",0]
["СЕТЫ РЕЛЬЕФОВ"]
["Сет Bricks ","XS-S","Brick I - 27/23/8; Brick II - 34/23/10; Brick III - 53/22/14; Brick IV - 31/28/15;",6,null,null,null,null,null,null,"3,7",18900,null,null,null,null,null,null,null,null,null,null,null,{"$f":"SUM(M109:W109)*K109","v":0},0,"00-00000501",0]
["Сет Curve","S","Curve I - 45/22/12;Curve II - 44/22/12; Curve III - 41/25/10;  ",3,null,null,null,null,null,null,4.0999999999999996,11790,null,null,null,null,null,null,null,null,null,null,null,0,0,"00-00000506",0]
["Сет Flat","S","Flat - 41/27/10; Bolda - 42/23/10; Tweak - 46/25/12; Knot - 43/22/9;",4,null,null,null,null,null,null,4.7,11270,null,null,null,null,null,null,null,null,null,null,null,0,0,"00-00000505",0]
["Сет Heads ","XS-L","Head I - 36/32/16;Head II - 37/16/16; Head III - 44/40/22; Head IV - 47/40/24; Head V - 37/27/23; ",5,null,null,null,null,null,null,7.35,18920,null,null,null,null,null,null,null,null,null,null,null,0,0,"00-00000502",0]
["Сет Pinches ","XS-S","Pinch I - 37/18/11; Pinch II - 39/20/13; Pinch III - 33/27/13;",3,null,null,null,null,null,null,2.9,10580,null,null,null,null,null,null,null,null,null,null,null,0,0,"00-00000500",0]
["Glam Glossy        ","XS-S","-",5,null,null,null,null,null,null,4.5,22000,null,null,null,null,null,null,null,null,null,null,null,0,0,"00-00001045",0]

{"sheet":"Для тренировки NEW! 2023","index":4,"n_rows":22,"n_cols":25,"rows_kept":22,"cut":false,"hidden":false,"merged":[[0,0,1,0],[0,2,1,2],[0,18,0,24],[0,5,0,15],[10,18,10,19],[7,5,7,15],[11,18,11,19],[12,18,12,19],[10,14,10,16],[9,14,9,19],[11,14,11,16],[12,14,12,16]]}
["Название","Количество в наборе","Изображение ","Вес набора","Цена набора","Выберите цвет зацепов",null,null,null,null,null,null,null,null,null,null,"Общий вес","Общая стоимость","Длина необходимых болтов для заказанных наборов"]
[null,"шт",null,"кг","руб","Любой цвет","3028 RAL","5015 RAL","1018 RAL","6037 RAL","9016 RAL","9005 RAL","2003 RAL","4008 RAL","Зеленый флюр +10%","Розовый флюр +10%","кг","руб","40мм","50мм","60мм","80мм","90мм","100мм","120мм"]
["System hold I (D=12см; H=6см) NEW! 2023",2,null,1.96,1100,null,null,null,null,null,null,null,null,null,null,null,{"$f":"SUM(F3:P3)*D3","v":0},{"$f":"E3*SUM(F3:N3)+O3*(E3*110%)+P3*(E3*110%)","v":0},null,null,null,{"$f":"SUM(F3:P3)*2","v":0}]
["System hold II (D=12см; H=6см) NEW! 2023",2,null,2.06,1100,null,null,null,null,null,null,null,null,null,null,null,0,{"$f":"E4*SUM(F4:N4)+O4*(E4*110%)+P4*(E4*110%)","v":0},null,null,null,{"$f":"SUM(F4:P4)*2","v":0}]
["System hold III (D=12см; H=7см) NEW! 2023",2,null,2.6,1200,null,null,null,null,null,null,null,null,null,null,null,0,0,null,null,{"$f":"SUM(F5:P5)*2","v":0}]
["System hold IV (D=13,5см; H=4см)                 NEW! 2023",2,null,1.9,1100,null,null,null,null,null,null,null,null,null,null,null,0,0,null,null,{"$f":"SUM(F6:P6)*2","v":0}]
["System hold V",2,null,4.7,2600,null,null,null,null,null,null,null,null,null,null,null,0,0,null,null,null,{"$f":"SUM(F7:P7)*2","v":0}]
["Балансборд Spheric Balance AZTEC",1,null,3.4,4000,null,null,null,null,null,null,null,null,null,null,null,{"$f":"SUM(F8:P8)*D8","v":0},0]
[]
[null,null,null,null,null,null,null,null,null,null,null,null,null,null,"Итого"]
[null,null,null,null,null,null,null,null,null,null,null,null,null,null,"Общее количество зацепов для тренировки",null,null,"Общий вес","Общая стоимость"]
[null,null,null,null,null,null,null,null,null,null,null,null,null,null,"шт",null,null,"кг","руб"]
[null,null,null,null,null,null,null,null,null,null,null,null,null,null,{"$f":"SUM(F3:P3)*2+SUM(F4:P4)*2+SUM(F5:P5)*2+SUM(F6:P6)*2+SUM(F7:P7)*2","v":0},null,null,{"$f":"SUM(Q3:Q7)","v":0},{"$f":"SUM(R3:R7)","v":0}]
[]
[]
[]
[]
[]
[]
[]
[]
[null,null,null,null,null,{"$f":"SUM(F3:P5)","v":0}]

{"sheet":"Крепеж","index":5,"n_rows":17,"n_cols":7,"rows_kept":17,"cut":false,"hidden":false,"merged":[[0,0,1,0],[13,4,13,6]]}
["Название","Количество","Вес","Цена","Укажите количество","Общий вес","Общая стоимость"]
[null,"шт","кг","руб","шт","кг","руб"]
["Болт M10 40мм",1,3.2000000000000001E-2,12,null,{"$f":"C3*E3","v":0},{"$f":"D3*E3","v":0}]
["Болт M10 50мм",1,3.7999999999999999E-2,14,null,{"$f":"C4*E4","v":0},0]
["Болт M10 60мм",1,4.3999999999999997E-2,16,null,0,0]
["Болт M10 70мм",1,0.05,18,null,0,0]
["Болт M10 80мм",1,5.5E-2,20,null,0,0]
["Болт M10 90мм",1,6.2E-2,23,null,0,0]
["Болт M10 100мм",1,6.8000000000000005E-2,25,null,0,0]
["Болт M10 120мм",1,0.08,30,null,0,0]
["Бульдог M10",1,7.6E-3,8.1999999999999993,null,0,0]
[]
[]
[null,null,null,null,"Итого"]
[null,null,null,null,"Общее количество","Общий вес","Общая стоимость"]
[null,null,null,null,"шт","кг","руб"]
[null,null,null,null,{"$f":"SUM(E3:E11)","v":0},{"$f":"SUM(F3:F11)","v":0},{"$f":"SUM(G3:G11)","v":0}]

{"sheet":"Формирование","index":6,"n_rows":92,"n_cols":9,"rows_kept":92,"cut":false,"hidden":true,"merged":[[1,6,1,8],[18,6,18,8],[1,0,1,2],[1,3,1,5]]}
["Куда"]
["Зацепы",null,null,"Рельефы",null,null,"Для тренировки"]
["Название","Кол-во","Стоимость","Название","Кол-во","Стоимость","Название","Кол-во","Стоимость"]
["New Beads",{"$f":"Зацепы!#REF!","v":{"$error":"#REF!"}},{"$f":"Зацепы!Y7","v":0},"Рельеф № 1 Double Spheric",{"$f":"Рельефы!M7","v":0},{"$f":"Рельефы!Y7","v":0},"Campus hold II",{"$f":"'Для тренировки NEW! 2023'!#REF!","v":{"$error":"#REF!"}},{"$f":"'Для тренировки NEW! 2023'!R3","v":0}]
[null,null,null,"Рельеф № 2 Spheric",{"$f":"Рельефы!M8","v":0},{"$f":"Рельефы!Y8","v":0},"System hold I",{"$f":"'Для тренировки NEW! 2023'!#REF!","v":{"$error":"#REF!"}},{"$f":"'Для тренировки NEW! 2023'!R4","v":0}]
["Energy",{"$error":"#REF!"},{"$error":"#REF!"},"Рельеф № 3 Tufa",{"$f":"Рельефы!M9","v":0},{"$f":"Рельефы!Y9","v":0},"System hold II",{"$f":"'Для тренировки NEW! 2023'!#REF!","v":{"$error":"#REF!"}},{"$f":"'Для тренировки NEW! 2023'!R5","v":0}]
["Sqrew/XS",null,null,"Рельеф Small Spheric № 4",{"$f":"Рельефы!M10","v":0},{"$f":"Рельефы!Y10","v":0},"Турник Extensor без накладок",{"$f":"'Для тренировки NEW! 2023'!#REF!","v":{"$error":"#REF!"}},{"$f":"'Для тренировки NEW! 2023'!R6","v":0}]
["Shooter I",{"$f":"Зацепы!#REF!","v":{"$error":"#REF!"}},{"$f":"Зацепы!#REF!","v":{"$error":"#REF!"}},"Рельеф Hollow № 5",{"$f":"Рельефы!M11","v":0},{"$f":"Рельефы!Y11","v":0},null,{"$f":"'Для тренировки NEW! 2023'!#REF!","v":{"$error":"#REF!"}},{"$f":"'Для тренировки NEW! 2023'!#REF!","v":{"$error":"#REF!"}}]
["Uni-Sqrew",{"$f":"Зацепы!#REF!","v":{"$error":"#REF!"}},{"$f":"Зацепы!Y9","v":0},"Рельеф Nest № 6",{"$f":"Рельефы!M12","v":0},{"$f":"Рельефы!Y12","v":0},"Шары Nutcracker(80мм)",{"$f":"'Для тренировки NEW! 2023'!#REF!","v":{"$error":"#REF!"}},{"$f":"'Для тренировки NEW! 2023'!#REF!","v":{"$error":"#REF!"}}]
["BARK sqrew",{"$f":"Зацепы!#REF!","v":{"$error":"#REF!"}},{"$f":"Зацепы!#REF!","v":{"$error":"#REF!"}},"Рельеф Casper № 7",{"$f":"Рельефы!M13","v":0},{"$f":"Рельефы!Y13","v":0},"Шары Nutcracker(90мм)",{"$f":"'Для тренировки NEW! 2023'!#REF!","v":{"$error":"#REF!"}},{"$f":"'Для тренировки NEW! 2023'!#REF!","v":{"$error":"#REF!"}}]
["Spots PU",{"$f":"Зацепы!#REF!","v":{"$error":"#REF!"}},{"$f":"Зацепы!Y15","v":0},"Рельеф № 8 Volcano",{"$f":"Рельефы!M14","v":0},{"$f":"Рельефы!Y14","v":0},"Паралетсы",{"$f":"'Для тренировки NEW! 2023'!#REF!","v":{"$error":"#REF!"}},{"$f":"'Для тренировки NEW! 2023'!R7","v":0}]
["Geometric Screw PU",{"$f":"Зацепы!#REF!","v":{"$error":"#REF!"}},{"$f":"Зацепы!Y18","v":0},"Рельеф Delfino № 9",{"$f":"Рельефы!M15","v":0},{"$f":"Рельефы!Y15","v":0},"Итого",{"$f":"SUM(H4:H11)","v":{"$error":"#REF!"}},{"$f":"SUM(I4:I11)","v":{"$error":"#REF!"}}]
["Granite Screw PU",{"$f":"Зацепы!#REF!","v":{"$error":"#REF!"}},{"$f":"Зацепы!Y19","v":0},"Рельеф Bone №10",{"$f":"Рельефы!M16","v":0},{"$f":"Рельефы!Y16","v":0}]
["S",null,null,"Рельеф Wing № 11",{"$f":"Рельефы!M17","v":0},{"$f":"Рельефы!Y17","v":0}]
["Edges",{"$f":"Зацепы!#REF!","v":{"$error":"#REF!"}},{"$f":"Зацепы!Y21","v":0},"Рельеф Stump № 12",{"$f":"Рельефы!M18","v":0},{"$f":"Рельефы!Y18","v":0}]
["No fear",{"$f":"Зацепы!#REF!","v":{"$error":"#REF!"}},{"$f":"Зацепы!Y22","v":0},"Рельеф Ear № 13",{"$f":"Рельефы!M19","v":0},{"$f":"Рельефы!Y19","v":0}]
["Grime",{"$f":"Зацепы!#REF!","v":{"$error":"#REF!"}},{"$f":"Зацепы!#REF!","v":{"$error":"#REF!"}},"Рельеф Camel № 14",{"$f":"Рельефы!M20","v":0},{"$f":"Рельефы!Y20","v":0}]
["Stone",{"$f":"Зацепы!#REF!","v":{"$error":"#REF!"}},{"$f":"Зацепы!Y23","v":0},"Рельеф Nut № 15",{"$f":"Рельефы!M21","v":0},{"$f":"Рельефы!Y21","v":0}]
["Universal",{"$f":"Зацепы!#REF!","v":{"$error":"#REF!"}},{"$f":"Зацепы!Y24","v":0},"Рельеф Dune № 16",{"$f":"Рельефы!M22","v":0},{"$f":"Рельефы!Y22","v":0},"Крепеж"]
["Metamorphic",{"$f":"Зацепы!#REF!","v":{"$error":"#REF!"}},{"$f":"Зацепы!Y25","v":0},"Рельеф Dream Point № 17",{"$f":"Рельефы!M23","v":0},{"$f":"Рельефы!Y23","v":0},"Название","Кол-во","Стоимость"]
["Metamorphic II",{"$f":"Зацепы!#REF!","v":{"$error":"#REF!"}},{"$f":"Зацепы!Y26","v":0},"Рельеф Boomerang № 18",{"$f":"Рельефы!M24","v":0},{"$f":"Рельефы!Y24","v":0},"Болт M10 40мм",{"$f":"Крепеж!E3","v":0},{"$f":"Крепеж!G3","v":0}]
["Skin Killer",{"$f":"Зацепы!#REF!","v":{"$error":"#REF!"}},{"$f":"Зацепы!Y27","v":0},"Рельеф Banana № 21",{"$f":"Рельефы!M25","v":0},{"$f":"Рельефы!Y25","v":0},"Болт M10 50мм",{"$f":"Крепеж!E4","v":0},{"$f":"Крепеж!G4","v":0}]
["M",null,null,"Рельеф Turtle № 22",{"$f":"Рельефы!M26","v":0},{"$f":"Рельефы!Y26","v":0},"Болт M10 60мм",{"$f":"Крепеж!E5","v":0},{"$f":"Крепеж!G5","v":0}]
["Classic",{"$f":"Зацепы!#REF!","v":{"$error":"#REF!"}},{"$f":"Зацепы!#REF!","v":{"$error":"#REF!"}},"Рельеф № 23 Vedro II",{"$f":"Рельефы!M27","v":0},{"$f":"Рельефы!Y27","v":0},"Болт M10 70мм",{"$f":"Крепеж!E6","v":0},{"$f":"Крепеж!G6","v":0}]
["Geyser II",{"$f":"Зацепы!#REF!","v":{"$error":"#REF!"}},{"$f":"Зацепы!#REF!","v":{"$error":"#REF!"}},"Рельеф Hippo № 24",{"$f":"Рельефы!M28","v":0},{"$f":"Рельефы!Y28","v":0},"Болт M10 80мм",{"$f":"Крепеж!E7","v":0},{"$f":"Крепеж!G7","v":0}]
["Method",{"$f":"Зацепы!#REF!","v":{"$error":"#REF!"}},{"$f":"Зацепы!#REF!","v":{"$error":"#REF!"}},"Рельеф Wave № 25",{"$f":"Рельефы!M29","v":0},{"$f":"Рельефы!Y29","v":0},"Болт M10 90мм",{"$f":"Крепеж!E8","v":0},{"$f":"Крепеж!G8","v":0}]
["Static",{"$f":"Зацепы!#REF!","v":{"$error":"#REF!"}},{"$f":"Зацепы!Y29","v":0},"Рельеф  № 26 Smurf",{"$f":"Рельефы!M30","v":0},{"$f":"Рельефы!Y30","v":0},"Болт M10 100мм",{"$f":"Крепеж!E9","v":0},{"$f":"Крепеж!G9","v":0}]
["X-Power",{"$f":"Зацепы!#REF!","v":{"$error":"#REF!"}},{"$f":"Зацепы!Y30","v":0},"Рельеф  № 27 Curve I",{"$f":"Рельефы!M31","v":0},{"$f":"Рельефы!Y31","v":0},"Болт M10 120мм",{"$f":"Крепеж!E10","v":0},{"$f":"Крепеж!G10","v":0}]
["Handle",{"$f":"Зацепы!#REF!","v":{"$error":"#REF!"}},{"$f":"Зацепы!Y31","v":0},"Рельеф  № 28 Curve II",{"$f":"Рельефы!M32","v":0},{"$f":"Рельефы!Y32","v":0},"Бульдог M10",{"$f":"Крепеж!E11","v":0},{"$f":"Крепеж!G11","v":0}]
["Sand Stone",{"$f":"Зацепы!#REF!","v":{"$error":"#REF!"}},{"$f":"Зацепы!#REF!","v":{"$error":"#REF!"}},"Рельеф  № 29 Slack",{"$f":"Рельефы!M33","v":0},{"$f":"Рельефы!Y33","v":0},"Итого",{"$f":"SUM(H21:H29)","v":0},{"$f":"SUM(I21:I29)","v":0}]
["Sea Life",{"$f":"Зацепы!#REF!","v":{"$error":"#REF!"}},{"$f":"Зацепы!Y32","v":0},"Рельеф  № 30 Moon",{"$f":"Рельефы!M34","v":0},{"$f":"Рельефы!Y34","v":0}]
["Up",{"$f":"Зацепы!#REF!","v":{"$error":"#REF!"}},{"$f":"Зацепы!Y33","v":0},"Evklid PU HB № 31",{"$f":"Рельефы!#REF!","v":{"$error":"#REF!"}},{"$f":"Рельефы!#REF!","v":{"$error":"#REF!"}}]
["L",null,null,"Рельеф  № 32 Curve III",{"$f":"Рельефы!M35","v":0},{"$f":"Рельефы!Y35","v":0}]
["Cloud",{"$f":"Зацепы!#REF!","v":{"$error":"#REF!"}},{"$f":"Зацепы!#REF!","v":{"$error":"#REF!"}},"Penta PU HB № 33",{"$f":"Рельефы!#REF!","v":{"$error":"#REF!"}},{"$f":"Рельефы!#REF!","v":{"$error":"#REF!"}}]
["Bridge stone",{"$f":"Зацепы!#REF!","v":{"$error":"#REF!"}},{"$f":"Зацепы!Y35","v":0},"Trampl PU HB № 34",{"$f":"Рельефы!#REF!","v":{"$error":"#REF!"}},{"$f":"Рельефы!#REF!","v":{"$error":"#REF!"}}]
["Geyser I",{"$f":"Зацепы!#REF!","v":{"$error":"#REF!"}},{"$f":"Зацепы!#REF!","v":{"$error":"#REF!"}},"Pifagor PU HB № 35",{"$f":"Рельефы!#REF!","v":{"$error":"#REF!"}},{"$f":"Рельефы!#REF!","v":{"$error":"#REF!"}}]
["Lever ",{"$f":"Зацепы!#REF!","v":{"$error":"#REF!"}},{"$f":"Зацепы!Y36","v":0},"Stels PU HB № 36",{"$f":"Рельефы!#REF!","v":{"$error":"#REF!"}},{"$f":"Рельефы!#REF!","v":{"$error":"#REF!"}}]
["Hexagon",{"$f":"Зацепы!#REF!","v":{"$error":"#REF!"}},{"$f":"Зацепы!Y37","v":0},"Рельеф Bent № 37",{"$f":"Рельефы!M36","v":0},{"$f":"Рельефы!Y36","v":0}]
["Plesure",{"$f":"Зацепы!#REF!","v":{"$error":"#REF!"}},{"$f":"Зацепы!#REF!","v":{"$error":"#REF!"}},"Рельеф Drop № 38",{"$f":"Рельефы!M37","v":0},{"$f":"Рельефы!Y37","v":0}]
["Expert",{"$f":"Зацепы!#REF!","v":{"$error":"#REF!"}},{"$f":"Зацепы!#REF!","v":{"$error":"#REF!"}},"Рельеф Egg № 39",{"$f":"Рельефы!M38","v":0},{"$f":"Рельефы!Y38","v":0}]
["Roof",{"$f":"Зацепы!#REF!","v":{"$error":"#REF!"}},{"$f":"Зацепы!Y38","v":0},"Рельеф Vedro № 40",{"$f":"Рельефы!M39","v":0},{"$f":"Рельефы!Y39","v":0}]
["Dront",{"$f":"Зацепы!#REF!","v":{"$error":"#REF!"}},{"$f":"Зацепы!Y39","v":0},"Рельеф Flat № 41",{"$f":"Рельефы!M40","v":0},{"$f":"Рельефы!Y40","v":0}]
["Ceuse III",{"$f":"Зацепы!#REF!","v":{"$error":"#REF!"}},{"$f":"Зацепы!Y40","v":0},"Рельеф Knot № 42",{"$f":"Рельефы!M41","v":0},{"$f":"Рельефы!Y41","v":0}]
["Pac-Man",{"$f":"Зацепы!#REF!","v":{"$error":"#REF!"}},{"$f":"Зацепы!Y41","v":0},"Рельеф  MegaSpheric № 43",{"$f":"Рельефы!M42","v":0},{"$f":"Рельефы!Y42","v":0}]
["Kuturchin I",{"$f":"Зацепы!#REF!","v":{"$error":"#REF!"}},{"$f":"Зацепы!Y44","v":0},"Рельеф  Tweak № 44",{"$f":"Рельефы!M43","v":0},{"$f":"Рельефы!Y43","v":0}]
["XL",null,null,"Рельеф  Crater № 45",{"$f":"Рельефы!M44","v":0},{"$f":"Рельефы!Y44","v":0}]
["Ceuse",{"$f":"Зацепы!#REF!","v":{"$error":"#REF!"}},{"$f":"Зацепы!Y46","v":0},"Рельеф  Bolda № 46",{"$f":"Рельефы!M45","v":0},{"$f":"Рельефы!Y45","v":0}]
["Ceuse II",{"$f":"Зацепы!#REF!","v":{"$error":"#REF!"}},{"$f":"Зацепы!Y47","v":0},"Рельеф  Iron № 47",{"$f":"Рельефы!M46","v":0},{"$f":"Рельефы!Y46","v":0}]
["Muffins",{"$f":"Зацепы!#REF!","v":{"$error":"#REF!"}},{"$f":"Зацепы!Y48","v":0},"Рельеф  Iron II № 48",{"$f":"Рельефы!M47","v":0},{"$f":"Рельефы!Y47","v":0}]
["Duff",{"$f":"Зацепы!#REF!","v":{"$error":"#REF!"}},{"$f":"Зацепы!#REF!","v":{"$error":"#REF!"}},"Рельеф  Big Crater № 49",{"$f":"Рельефы!M59","v":0},{"$f":"Рельефы!Y59","v":0}]
["Soft Jugs",{"$f":"Зацепы!#REF!","v":{"$error":"#REF!"}},{"$f":"Зацепы!Y52","v":0},"Рельеф  MegaInSpheric № 50",{"$f":"Рельефы!M61","v":0},{"$f":"Рельефы!Y61","v":0}]
["XXL",null,null,"Рельеф Archimed PU HB № 51",{"$f":"Рельефы!#REF!","v":{"$error":"#REF!"}},{"$f":"Рельефы!#REF!","v":{"$error":"#REF!"}}]
["Baton PU",{"$f":"Зацепы!#REF!","v":{"$error":"#REF!"}},{"$f":"Зацепы!Y54","v":0},"Рельеф  Oracle № 52",{"$f":"Рельефы!M62","v":0},{"$f":"Рельефы!Y62","v":0}]
["Dront XXL",{"$f":"Зацепы!#REF!","v":{"$error":"#REF!"}},{"$f":"Зацепы!Y58","v":0},"Рельеф № 53 Coffee",{"$f":"Рельефы!M64","v":0},{"$f":"Рельефы!Y64","v":0}]
["Free Fall",{"$f":"Зацепы!#REF!","v":{"$error":"#REF!"}},{"$f":"Зацепы!Y59","v":0},"Рельеф № 54 Smile",{"$f":"Рельефы!M65","v":0},{"$f":"Рельефы!Y65","v":0}]
["Boss I",{"$f":"Зацепы!#REF!","v":{"$error":"#REF!"}},{"$f":"Зацепы!Y60","v":0},"Рельеф № 55 Lucky",{"$f":"Рельефы!M66","v":0},{"$f":"Рельефы!Y66","v":0}]
["Boss II",{"$f":"Зацепы!#REF!","v":{"$error":"#REF!"}},{"$f":"Зацепы!Y61","v":0},"Рельеф № 56 Head I",{"$f":"Рельефы!M67","v":0},{"$f":"Рельефы!Y67","v":0}]
["GIGA",null,null,"Рельеф № 57 Head II",{"$f":"Рельефы!M68","v":0},{"$f":"Рельефы!Y68","v":0}]
["Fish",{"$f":"Зацепы!#REF!","v":{"$error":"#REF!"}},{"$f":"Зацепы!#REF!","v":{"$error":"#REF!"}},"Рельеф № 58 Head III",{"$f":"Рельефы!M69","v":0},{"$f":"Рельефы!Y69","v":0}]
["Africa",{"$f":"Зацепы!#REF!","v":{"$error":"#REF!"}},{"$f":"Зацепы!#REF!","v":{"$error":"#REF!"}},"Рельеф № 59 Head IV",{"$f":"Рельефы!M70","v":0},{"$f":"Рельефы!Y70","v":0}]
[null,null,null,"Рельеф № 60 Pinch I",{"$f":"Рельефы!M71","v":0},{"$f":"Рельефы!Y71","v":0}]
["Итого",{"$f":"SUM(B4:B61)","v":{"$error":"#REF!"}},{"$f":"SUM(C4:C61)","v":{"$error":"#REF!"}},"Рельеф № 61 Pinch II",{"$f":"Рельефы!M72","v":0},{"$f":"Рельефы!Y72","v":0}]
[null,null,null,"Рельеф № 62 Pinch III",{"$f":"Рельефы!M73","v":0},{"$f":"Рельефы!Y73","v":0}]
[null,null,null,"Рельеф № 63 Brick l",{"$f":"Рельефы!#REF!","v":{"$error":"#REF!"}},{"$f":"Рельефы!#REF!","v":{"$error":"#REF!"}}]
[null,null,null,"Рельеф № 64 Brick II",{"$f":"Рельефы!#REF!","v":{"$error":"#REF!"}},{"$f":"Рельефы!#REF!","v":{"$error":"#REF!"}}]
[null,null,null,"Рельеф № 65 Brick III",{"$f":"Рельефы!#REF!","v":{"$error":"#REF!"}},{"$f":"Рельефы!#REF!","v":{"$error":"#REF!"}}]
[null,null,null,"Рельеф № 66 Brick IV",{"$f":"Рельефы!#REF!","v":{"$error":"#REF!"}},{"$f":"Рельефы!#REF!","v":{"$error":"#REF!"}}]
[null,null,null,"Рельеф № 67 Snake I",{"$f":"Рельефы!#REF!","v":{"$error":"#REF!"}},{"$f":"Рельефы!#REF!","v":{"$error":"#REF!"}}]
[null,null,null,"Рельеф № 68 Snake II",{"$f":"Рельефы!#REF!","v":{"$error":"#REF!"}},{"$f":"Рельефы!#REF!","v":{"$error":"#REF!"}}]
[null,null,null,"Рельеф № 69 Lips",{"$f":"Рельефы!#REF!","v":{"$error":"#REF!"}},{"$f":"Рельефы!#REF!","v":{"$error":"#REF!"}}]
[null,null,null,"Рельеф № 70 Head V",{"$f":"Рельефы!#REF!","v":{"$error":"#REF!"}},{"$f":"Рельефы!#REF!","v":{"$error":"#REF!"}}]
[null,null,null,"Набор рельефов Geometry",{"$f":"Рельефы!#REF!","v":{"$error":"#REF!"}},{"$f":"Рельефы!#REF!","v":{"$error":"#REF!"}}]
[null,null,null,"Набор рельефов Heads",{"$f":"Рельефы!#REF!","v":{"$error":"#REF!"}},{"$f":"Рельефы!#REF!","v":{"$error":"#REF!"}}]
[null,null,null,"Набор рельефов Pinches",{"$f":"Рельефы!#REF!","v":{"$error":"#REF!"}},{"$f":"Рельефы!#REF!","v":{"$error":"#REF!"}}]
[null,null,null,"Набор рельефов Bricks",{"$f":"Рельефы!#REF!","v":{"$error":"#REF!"}},{"$f":"Рельефы!#REF!","v":{"$error":"#REF!"}}]
[null,null,null,"Набор рельефов Virus PU",{"$f":"Рельефы!#REF!","v":{"$error":"#REF!"}},{"$f":"Рельефы!#REF!","v":{"$error":"#REF!"}}]
[null,null,null,"Рельеф FF № 1",{"$f":"Рельефы!M82","v":0},{"$f":"Рельефы!Y82","v":0}]
[null,null,null,"Рельеф FF № 2",{"$f":"Рельефы!#REF!","v":{"$error":"#REF!"}},{"$f":"Рельефы!#REF!","v":{"$error":"#REF!"}}]
[null,null,null,"Рельеф PWV I",{"$f":"Рельефы!M90","v":0},{"$f":"Рельефы!Y90","v":0}]
[null,null,null,"РельефPWV II",{"$f":"Рельефы!#REF!","v":{"$error":"#REF!"}},{"$f":"Рельефы!#REF!","v":{"$error":"#REF!"}}]
[null,null,null,"Рельеф PWV III",{"$f":"Рельефы!M109","v":0},{"$f":"Рельефы!Y109","v":0}]
[null,null,null,"Рельеф PWV IV Hexa",{"$f":"Рельефы!M110","v":0},{"$f":"Рельефы!Y110","v":0}]
[null,null,null,"Рельеф PWV V Slice",{"$f":"Рельефы!M111","v":0},{"$f":"Рельефы!Y111","v":0}]
[null,null,null,"Рельеф PWV VI Arrow",{"$f":"Рельефы!M112","v":0},{"$f":"Рельефы!Y112","v":0}]
[null,null,null,"Рельеф PWV VII Manta",{"$f":"Рельефы!M113","v":0},{"$f":"Рельефы!Y113","v":0}]
[null,null,null,"Рельеф PWV VIII Ladge",{"$f":"Рельефы!#REF!","v":{"$error":"#REF!"}},{"$f":"Рельефы!#REF!","v":{"$error":"#REF!"}}]
[null,null,null,"Рельеф PWV IX Diamond",{"$f":"Рельефы!#REF!","v":{"$error":"#REF!"}},{"$f":"Рельефы!#REF!","v":{"$error":"#REF!"}}]
[null,null,null,"Рельеф PWV X Planner",{"$f":"Рельефы!#REF!","v":{"$error":"#REF!"}},{"$f":"Рельефы!#REF!","v":{"$error":"#REF!"}}]
[null,null,null,"Рельеф PWV XI Puramid S",{"$f":"Рельефы!#REF!","v":{"$error":"#REF!"}},{"$f":"Рельефы!#REF!","v":{"$error":"#REF!"}}]
[null,null,null,"Рельеф PWV XII Basket",{"$f":"Рельефы!#REF!","v":{"$error":"#REF!"}},{"$f":"Рельефы!#REF!","v":{"$error":"#REF!"}}]
[null,null,null,"Рельеф PWV XIII Pyramid XS",{"$f":"Рельефы!#REF!","v":{"$error":"#REF!"}},{"$f":"Рельефы!#REF!","v":{"$error":"#REF!"}}]
[null,null,null,"Итого",{"$f":"SUM(E4:E91)","v":{"$error":"#REF!"}},{"$f":"SUM(F4:F91)","v":{"$error":"#REF!"}}]